BEGIN:VCALENDAR
VERSION:2.0
PRODID:-//Gratis Uppsala - ECPv5.2.1//NONSGML v1.0//EN
CALSCALE:GREGORIAN
METHOD:PUBLISH
X-WR-CALNAME:Gratis Uppsala
X-ORIGINAL-URL:https://arkiv.gratisuppsala.se
X-WR-CALDESC:Händelser för Gratis Uppsala
BEGIN:VTIMEZONE
TZID:Europe/Stockholm
BEGIN:DAYLIGHT
TZOFFSETFROM:+0100
TZOFFSETTO:+0200
TZNAME:CEST
DTSTART:20160327T010000
END:DAYLIGHT
BEGIN:STANDARD
TZOFFSETFROM:+0200
TZOFFSETTO:+0100
TZNAME:CET
DTSTART:20161030T010000
END:STANDARD
END:VTIMEZONE
BEGIN:VEVENT
DTSTART;TZID=Europe/Stockholm:20160213T120000
DTEND;TZID=Europe/Stockholm:20160213T150000
DTSTAMP:20260421T084346
CREATED:20160208T180353Z
LAST-MODIFIED:20160208T180353Z
UID:6091-1455364800-1455375600@arkiv.gratisuppsala.se
SUMMARY:Familjelördag på Sävjabiblioteket
DESCRIPTION:Familjelördag på Sävjabiblioteket 13 februari kl 12-15\, med aktiviteter för hela familjen.\nRita\, måla\, klipp och klistra ett Alla-Hjärtans-Dags-kort till någon du tycker om. \nIngen kostnad. Alla är välkomna! \nBild: pixabay.com. \nDela evenemanget
URL:https://arkiv.gratisuppsala.se/event/familjelordag-pa-savjabiblioteket/
LOCATION:Sävjabiblioteket\, Västgötaresan 133\, Uppsala\, 757 54\, Sverige
ATTACH;FMTTYPE=image/jpeg:https://arkiv.gratisuppsala.se/wp-content/uploads/2016/02/pappershjärtan.jpg
ORGANIZER;CN="Bibliotek%20Uppsala":MAILTO:kundtjanst@bibliotekuppsala.se
GEO:59.810724;17.702339
X-APPLE-STRUCTURED-LOCATION;VALUE=URI;X-ADDRESS=Sävjabiblioteket Västgötaresan 133 Uppsala 757 54 Sverige;X-APPLE-RADIUS=500;X-TITLE=Västgötaresan 133:geo:17.702339,59.810724
END:VEVENT
END:VCALENDAR