BEGIN:VCALENDAR
VERSION:2.0
PRODID:-//Gratis Uppsala - ECPv5.2.1//NONSGML v1.0//EN
CALSCALE:GREGORIAN
METHOD:PUBLISH
X-WR-CALNAME:Gratis Uppsala
X-ORIGINAL-URL:https://arkiv.gratisuppsala.se
X-WR-CALDESC:Händelser för Gratis Uppsala
BEGIN:VTIMEZONE
TZID:Europe/Stockholm
BEGIN:DAYLIGHT
TZOFFSETFROM:+0100
TZOFFSETTO:+0200
TZNAME:CEST
DTSTART:20160327T010000
END:DAYLIGHT
BEGIN:STANDARD
TZOFFSETFROM:+0200
TZOFFSETTO:+0100
TZNAME:CET
DTSTART:20161030T010000
END:STANDARD
END:VTIMEZONE
BEGIN:VEVENT
DTSTART;TZID=Europe/Stockholm:20160206T130000
DTEND;TZID=Europe/Stockholm:20160206T153000
DTSTAMP:20260419T233832
CREATED:20151228T094825Z
LAST-MODIFIED:20160203T175757Z
UID:5383-1454763600-1454772600@arkiv.gratisuppsala.se
SUMMARY:Familjelördag på Slottet
DESCRIPTION:Familjelördag på Slottet. Upptäck konsten på Konstmuseet och skapa själv! Invigning av utställningen med Agnes Clevés konst. \n13.00.Familjevisning. Tillsammans med museets konstpedagog tittas det på konstverk i museet.\nSedan arbetar alla i verkstan inspirerade av det man har sett.\nDrop-in i verkstan 13.30-15.30. Konstmuseet bjuder på saft och kakor. \nEj förbokning.\nFri entré. \nBild: pixabay.com. \n\n Dela evenemanget
URL:https://arkiv.gratisuppsala.se/event/familjelordag-pa-slottet/
LOCATION:Uppsala konstmuseum\, Drottning Christinas väg 1E\, Uppsala\, 75237 \, Sverige
CATEGORIES:Konst, Fotografi och Design,Utställning
ATTACH;FMTTYPE=image/jpeg:https://arkiv.gratisuppsala.se/wp-content/uploads/2015/12/konst.jpg
GEO:59.8532935;17.6351313
X-APPLE-STRUCTURED-LOCATION;VALUE=URI;X-ADDRESS=Uppsala konstmuseum Drottning Christinas väg 1E Uppsala 75237  Sverige;X-APPLE-RADIUS=500;X-TITLE=Drottning Christinas väg 1E:geo:17.6351313,59.8532935
END:VEVENT
END:VCALENDAR