BEGIN:VCALENDAR
VERSION:2.0
PRODID:-//Gratis Uppsala - ECPv5.2.1//NONSGML v1.0//EN
CALSCALE:GREGORIAN
METHOD:PUBLISH
X-WR-CALNAME:Gratis Uppsala
X-ORIGINAL-URL:https://arkiv.gratisuppsala.se
X-WR-CALDESC:Händelser för Gratis Uppsala
BEGIN:VTIMEZONE
TZID:Europe/Stockholm
BEGIN:DAYLIGHT
TZOFFSETFROM:+0100
TZOFFSETTO:+0200
TZNAME:CEST
DTSTART:20180325T010000
END:DAYLIGHT
BEGIN:STANDARD
TZOFFSETFROM:+0200
TZOFFSETTO:+0100
TZNAME:CET
DTSTART:20181028T010000
END:STANDARD
END:VTIMEZONE
BEGIN:VEVENT
DTSTART;TZID=Europe/Stockholm:20181117T130000
DTEND;TZID=Europe/Stockholm:20181117T140000
DTSTAMP:20260421T172818
CREATED:20181112T183619Z
LAST-MODIFIED:20181112T183619Z
UID:35363-1542459600-1542463200@arkiv.gratisuppsala.se
SUMMARY:Familjelördag på Sävjabiblioteket | 17 november - 15 december 2018
DESCRIPTION:Familjelördag på Sävjabiblioteket | 17 november – 15 december 2018\nVälkommen till familjelördag på Sävjabiblioteket.\nVarje lördag bjuds det på något nytt. Se program nedan. \nDag: Lördagar\, 17 november – 15 december 2018 (Obs! Ej 8 december 2018)\nPlats: Sävjabiblioteket\, Sävja Kulturcentrum\, Västgötaresan\, Uppsala \n  \n\nProgram 17 november – 15 december 2018\nLördag 17 november 2018\nFamiljelördag: Sagor från rymden\nSagostund för barn 3–6 år. \nTid:  13.00\nÅlder: för barn 3–6 år\nAnmälan: Nej\, ingen föranmälan! \nLördag 24 november 2018\nFamiljelördag: Vinterpärlor\nLägg pärlplattor med vinter- och jultema. Från 5 år i vuxens sällskap. \n\n\nTid: 11.00-15.00\nÅlder: från 5 år i vuxens sällskap\nAnmälan: Nej\, ingen föranmälan! \n\n\nLördag 1 december 2018\nFamiljelördag: Sagor i jultid\nSagostund för barn 3–6 år. \nTid: 13.00\nÅlder: från 5 år i vuxens sällskap\nAnmälan: Nej\, ingen föranmälan! \nLördag 8 december 2018\nIngen familjelördag – Julmarknad på Sävja kulturcentrum & bibliotek \n\nLördag 15 december 2018\nFamiljelördag: Julkortspyssel\nGör dina egna julkort. Alla välkomna. Yngre barn i vuxens sällskap. \nTid: 11.00-15.00\nÅlder: Yngre barn i vuxens sällskap\nAnmälan: Nej\, ingen föranmälan! \n\n  \n\nBesök gärna länkarna nedan (externa länkar öppnas i ett nytt fönster/flik). \nSävjabiblioteket | Kommande skapande event \nFoto: Sharon McCutcheon via Unsplash \nDela evenemanget
URL:https://arkiv.gratisuppsala.se/event/familjelordag-savjabiblioteket-v46-50-2018/2018-11-17/
LOCATION:Sverige
CATEGORIES:Familj,Litteratur och Poesi,Pyssel
ATTACH;FMTTYPE=image/jpeg:https://arkiv.gratisuppsala.se/wp-content/uploads/2018/11/sharon-mccutcheon-528615-unsplash-e1542047397142.jpg
ORGANIZER;CN="S%C3%A4vjabiblioteket":MAILTO:savjabiblioteket@uppsala.se
END:VEVENT
END:VCALENDAR