BEGIN:VCALENDAR
VERSION:2.0
PRODID:-//Gratis Uppsala - ECPv5.2.1//NONSGML v1.0//EN
CALSCALE:GREGORIAN
METHOD:PUBLISH
X-WR-CALNAME:Gratis Uppsala
X-ORIGINAL-URL:https://arkiv.gratisuppsala.se
X-WR-CALDESC:Händelser för Gratis Uppsala
BEGIN:VTIMEZONE
TZID:Europe/Stockholm
BEGIN:DAYLIGHT
TZOFFSETFROM:+0100
TZOFFSETTO:+0200
TZNAME:CEST
DTSTART:20170326T010000
END:DAYLIGHT
BEGIN:STANDARD
TZOFFSETFROM:+0200
TZOFFSETTO:+0100
TZNAME:CET
DTSTART:20171029T010000
END:STANDARD
END:VTIMEZONE
BEGIN:VEVENT
DTSTART;TZID=Europe/Stockholm:20170510T190000
DTEND;TZID=Europe/Stockholm:20170510T200000
DTSTAMP:20260420T080338
CREATED:20170424T130614Z
LAST-MODIFIED:20170502T075827Z
UID:13457-1494442800-1494446400@arkiv.gratisuppsala.se
SUMMARY:Feministisk stadsvandring
DESCRIPTION:Feministisk vandring i Uppsala\nFölj med och se Uppsala ur ett nytt perspektiv! \n\nDen feministiska stadsvandringen startar vid Geijerstatyn utanför Universitetshuset. Därifrån går vandringen vidare genom de centrala delarna av staden. \nIngen anmälan krävs men man får gärna göra en intresseanmälan på Facebook: https://www.facebook.com/events/373698343011934/ \nGuidningen är gratis och öppen för alla intresserade! \nSyftet med den feministiska stadsvandringen är att lyfta fram feministiska förkämpar som har levt och verkat i Uppsala\, samt visa upp platser som är eller har varit viktiga för jämställdhetskampen. \nBilden hämtad från wikimedia.org \n  \n\n Dela evenemanget
URL:https://arkiv.gratisuppsala.se/event/feministisk-stadsvandring-2/2017-05-10/
LOCATION:Universitetshuset\, Uppsala Universitet\, Biskopsgatan 3\, Uppsala\, 75310\, Sverige
CATEGORIES:Föreläsning och Kurs,Samhälle
ATTACH;FMTTYPE=image/jpeg:https://arkiv.gratisuppsala.se/wp-content/uploads/2017/04/Universitetshuset_Uppsala-e1493714926957.jpg
GEO:59.8577301;17.6298234
X-APPLE-STRUCTURED-LOCATION;VALUE=URI;X-ADDRESS=Universitetshuset Uppsala Universitet Biskopsgatan 3 Uppsala 75310 Sverige;X-APPLE-RADIUS=500;X-TITLE=Biskopsgatan 3:geo:17.6298234,59.8577301
END:VEVENT
END:VCALENDAR