BEGIN:VCALENDAR
VERSION:2.0
PRODID:-//Gratis Uppsala - ECPv5.2.1//NONSGML v1.0//EN
CALSCALE:GREGORIAN
METHOD:PUBLISH
X-WR-CALNAME:Gratis Uppsala
X-ORIGINAL-URL:https://arkiv.gratisuppsala.se
X-WR-CALDESC:Händelser för Gratis Uppsala
BEGIN:VTIMEZONE
TZID:Europe/Stockholm
BEGIN:DAYLIGHT
TZOFFSETFROM:+0100
TZOFFSETTO:+0200
TZNAME:CEST
DTSTART:20170326T010000
END:DAYLIGHT
BEGIN:STANDARD
TZOFFSETFROM:+0200
TZOFFSETTO:+0100
TZNAME:CET
DTSTART:20171029T010000
END:STANDARD
END:VTIMEZONE
BEGIN:VEVENT
DTSTART;VALUE=DATE:20170902
DTEND;VALUE=DATE:20170904
DTSTAMP:20260423T194716
CREATED:20170823T075553Z
LAST-MODIFIED:20170823T075553Z
UID:17004-1504314000-1504400399@arkiv.gratisuppsala.se
SUMMARY:Filmtävling: Gör din egen film och var med i Noomaraton
DESCRIPTION:Noomaraton – en filmtävling där du gör film på tid\nVälkommen att delta i Noomaraton\, en regional filmtävling där lag gör en egen film på tid som sedan bedöms av en jury. Tar laget sig till riksfinalen har ni chans att vinna ett presentkort på 10.000 kr hos Scandinavian Photo. \nAlla tävlande filmer i Uppsala län kommer att visas under Kulturnatten den 9 september klockan 15.00 – 16.30 på Slottsbiografen. Gratis inträde. \nTävlingsregler\nTävlingen startar klockan 09:00 den 2 september och pågår till klockan 09:00 den 3 september. Ni har med andra ord 24 timmar på er att göra filmen. Förutsättningarna för filmen (tre platser\, tre föremål\, ett tema) offentliggörs vid tävlingens start så att utgångsläget är lika för alla lag. Filmen får vara max fem minuter lång. \nEtt filmlag består av 1-4 personer. Varje lag får ta hjälp av skådespelare och statister men filmning och allt som hör till filmarbetet görs av medlemmarna i laget. \nFilmen får skapas med valfri teknik och all genrer är välkomna (spelfilm\, animation\, dokumentär). \nTävlingen pågår samtidigt i hela Sverige. Det är gratis och alla får vara med. En jury utser två vinnarfilmer i varje län\, som går vidare till riksfinalen på Filmhuset i Stockholm. Första pris i riksfinalen är 10.000 kr från Scandinavian Photo. \nJuryn bedömer filmerna utifrån: \n\nBerättelsens förmåga att gripa sin publik\nHur väl filmen speglar förutsättningarna\nFilmiskt hantverk\n\nFilmens tekniska kvalitet ska inte styra juryns bedömning i så stor utsträckning. \nAnmälan\nLaget måste anmäla sig senast 1 september kl 12.00. \nAnmäl lag till Noomaraton (Uppsala län) \nLäs mer om hur tävlingen går till på Region Uppsalas webbplats \nLäs mer om tävlingen på Noomaratons webbplats \nFrågor? Kontakta Andreas Gejke\, mediepedagog på Kulturenheten – film\, Region Uppsala \nE-post: andreas.gejke@regionuppsala.se \nBild från Noomaraton \nDela evenemanget
URL:https://arkiv.gratisuppsala.se/event/filmtavling-noomaraton/
CATEGORIES:Teater och Bio
ATTACH;FMTTYPE=image/jpeg:https://arkiv.gratisuppsala.se/wp-content/uploads/2017/08/Noomaraton_800x400.jpg
ORGANIZER;CN="Filmregionerna":MAILTO:ida@reaktorsydost.se
END:VEVENT
END:VCALENDAR