BEGIN:VCALENDAR
VERSION:2.0
PRODID:-//Gratis Uppsala - ECPv5.2.1//NONSGML v1.0//EN
CALSCALE:GREGORIAN
METHOD:PUBLISH
X-WR-CALNAME:Gratis Uppsala
X-ORIGINAL-URL:https://arkiv.gratisuppsala.se
X-WR-CALDESC:Händelser för Gratis Uppsala
BEGIN:VTIMEZONE
TZID:Europe/Stockholm
BEGIN:DAYLIGHT
TZOFFSETFROM:+0100
TZOFFSETTO:+0200
TZNAME:CEST
DTSTART:20160327T010000
END:DAYLIGHT
BEGIN:STANDARD
TZOFFSETFROM:+0200
TZOFFSETTO:+0100
TZNAME:CET
DTSTART:20161030T010000
END:STANDARD
END:VTIMEZONE
BEGIN:VEVENT
DTSTART;TZID=Europe/Stockholm:20160624T150000
DTEND;TZID=Europe/Stockholm:20160624T150000
DTSTAMP:20260420T081155
CREATED:20160620T071257Z
LAST-MODIFIED:20160620T092021Z
UID:7559-1466780400-1466780400@arkiv.gratisuppsala.se
SUMMARY:Fira midsommar på Alnäs
DESCRIPTION:Fira midsommar på Alnäs med KFUM Uppsala.\nTraditionsenligt midsommarfirande med spelmän\, dans\, lekar och kaffeservering.\nMidsommarstången reses kl. 14.00. \nTa er till Mälarvägen 14 – 16\, där Alnäs friluftsgård ligger\, med buss nr 20 eller 11\, avstigning Rådjursstigen. Man kan också åka buss nr 111 avstigning Trasthagen. \nVid ihållande regn ställs Midsommarfirandet in. Kolla vädret på smhi.se\, prognosen ser inte jättebra ut… \nFoto: kfum.se. \nDela evenemanget
URL:https://arkiv.gratisuppsala.se/event/fira-midsommar-pa-alnas/
LOCATION:Sverige
CATEGORIES:Midsommar
ATTACH;FMTTYPE=image/jpeg:https://arkiv.gratisuppsala.se/wp-content/uploads/2016/06/Midsommar_Alnäs.jpg
END:VEVENT
END:VCALENDAR