BEGIN:VCALENDAR
VERSION:2.0
PRODID:-//Gratis Uppsala - ECPv5.2.1//NONSGML v1.0//EN
CALSCALE:GREGORIAN
METHOD:PUBLISH
X-WR-CALNAME:Gratis Uppsala
X-ORIGINAL-URL:https://arkiv.gratisuppsala.se
X-WR-CALDESC:Händelser för Gratis Uppsala
BEGIN:VTIMEZONE
TZID:Europe/Stockholm
BEGIN:DAYLIGHT
TZOFFSETFROM:+0100
TZOFFSETTO:+0200
TZNAME:CEST
DTSTART:20200329T010000
END:DAYLIGHT
BEGIN:STANDARD
TZOFFSETFROM:+0200
TZOFFSETTO:+0100
TZNAME:CET
DTSTART:20201025T010000
END:STANDARD
END:VTIMEZONE
BEGIN:VEVENT
DTSTART;TZID=Europe/Stockholm:20201207T180000
DTEND;TZID=Europe/Stockholm:20201207T203000
DTSTAMP:20260419T230352
CREATED:20200827T141222Z
LAST-MODIFIED:20201130T130542Z
UID:46946-1607364000-1607373000@arkiv.gratisuppsala.se
SUMMARY:Från folkhemmets styvbarn till aktiva samhällsmedborgare
DESCRIPTION:Från folkhemmets styvbarn till aktiva samhällsmedborgare\n  \nVisning av filmen ”Folkhemmets styvbarn” som visar hur det var på Vipeholmsanstalten och hur personer med till exempel Downs syndrom numera skriver böcker\, är politiskt aktiva med mera. FUB (Föreningen för barn\, unga och vuxna med utvecklingsstörning)\, Autism & Aspergerförbundet samt Svenska Downföreningen i samarbete med Studieförbundet Vuxenskolan står bakom filmen. Medverkar i filmen gör bland annat Kalle Lind\, radiopratare\, manusförfattare och författare och Amanda Malmberg\, författare\, föreläsare och politiker. Efter filmen inbjuds till diskussion kring ett samtalsunderlag. \n  \nDatum: Måndagen den 7 december 2020.\nTid: 18.00-20.15.\nPlats: Digital filmvisning via länk som skickas ut till anmälda deltagare.\nPris: Gratis\nBiljett/Anmälan: Anmälan via Studieförbundet Vuxenskolan.\nSista anmälan: Onsdagen den 2 december 2020. \n  \n\nOm Funktionsrätt på riktigt – en mänsklig rättighet\n\nStudieförbundet Vuxenskolan uppmärksammar Uppsala kommuns temaår för mänskliga rättigheter 2020 genom att bjuda in till en serie filmer och föreläsningar med efterföljande diskussion. Tillsammans med föreningar\, organisationer och nätverk som samarbetar inom Funktionsrätt är målet att lyfta folkbildningen som en viktig aktör i att utveckla och stärka människor som har svårare att göra sin röst hörd på grund av till exempel psykisk sjukdom och/eller funktionsnedsättning. \n  \n\n\nBesök gärna länkarna nedan (externa länkar öppnas i ett nytt fönster/flik). \nStudieförbundet vuxenskolan | Temaår mänskliga rättigheter Uppsala Kommun | Kommande event om eller för dig med Funktionsvariationer \nBild: Andreas Glöckner \nDela evenemanget
URL:https://arkiv.gratisuppsala.se/event/folkhemmets-styvbarn-funktionsratt-pa-riktigt-2020/
LOCATION:– Digitalt event –\, Sverige
CATEGORIES:60+,Ålderskategori,Anmälan,Anmälan / Kostnad,Digitala event,Eventkategori,För anhöriga,För föräldrar,Föreläsning och Kurs,Förköp / Bokning,Funktionsvariationer,Geografisk kategori,Gratis,Hälsa & Välmående,Identitet,Kunskap och Lärande,Psykisk hälsa,Ungdom,Vuxen
ATTACH;FMTTYPE=image/jpeg:https://arkiv.gratisuppsala.se/wp-content/uploads/2020/08/cinema-4609877_1280-e1599569592652.jpg
ORGANIZER;CN="Studief%C3%B6rbundet%20Vuxenskolan%20Uppsala":MAILTO:uppsala@sv.se
END:VEVENT
END:VCALENDAR