BEGIN:VCALENDAR
VERSION:2.0
PRODID:-//Gratis Uppsala - ECPv5.2.1//NONSGML v1.0//EN
CALSCALE:GREGORIAN
METHOD:PUBLISH
X-WR-CALNAME:Gratis Uppsala
X-ORIGINAL-URL:https://arkiv.gratisuppsala.se
X-WR-CALDESC:Händelser för Gratis Uppsala
BEGIN:VTIMEZONE
TZID:Europe/Stockholm
BEGIN:DAYLIGHT
TZOFFSETFROM:+0100
TZOFFSETTO:+0200
TZNAME:CEST
DTSTART:20150329T010000
END:DAYLIGHT
BEGIN:STANDARD
TZOFFSETFROM:+0200
TZOFFSETTO:+0100
TZNAME:CET
DTSTART:20151025T010000
END:STANDARD
END:VTIMEZONE
BEGIN:VEVENT
DTSTART;TZID=Europe/Stockholm:20150929T190000
DTEND;TZID=Europe/Stockholm:20150929T190000
DTSTAMP:20260420T110537
CREATED:20150629T084335Z
LAST-MODIFIED:20150929T110256Z
UID:2811-1443553200-1443553200@arkiv.gratisuppsala.se
SUMMARY:Folkliga traditioner vid Mickelsmäss
DESCRIPTION:Berättat i våra arkivsamlingar: folkliga traditioner vid Mickelsmäss \nFöreläsare: Marlene Hugosson\, etnolog och forskningsarkivarie vid Dialekt- och folkminnesarkivet i Uppsala \nMer information: http://riksarkivet.se/Media/pdf-filer/ula/F%C3%B6rel%C3%A4sningar%20Arkivcentrum%202015.pdf \nDela evenemanget
URL:https://arkiv.gratisuppsala.se/event/folkliga-traditioner-vid-mickelsmass/
LOCATION:Uppsala Arkivcentrum\, von Kraemers allé 19\, Uppsala\, Sverige
CATEGORIES:Föreläsning och Kurs
ATTACH;FMTTYPE=image/jpeg:https://arkiv.gratisuppsala.se/wp-content/uploads/2015/06/Uppsala-arkivcentrum.jpg
END:VEVENT
END:VCALENDAR