BEGIN:VCALENDAR
VERSION:2.0
PRODID:-//Gratis Uppsala - ECPv5.2.1//NONSGML v1.0//EN
CALSCALE:GREGORIAN
METHOD:PUBLISH
X-WR-CALNAME:Gratis Uppsala
X-ORIGINAL-URL:https://arkiv.gratisuppsala.se
X-WR-CALDESC:Händelser för Gratis Uppsala
BEGIN:VTIMEZONE
TZID:Europe/Stockholm
BEGIN:DAYLIGHT
TZOFFSETFROM:+0100
TZOFFSETTO:+0200
TZNAME:CEST
DTSTART:20170326T010000
END:DAYLIGHT
BEGIN:STANDARD
TZOFFSETFROM:+0200
TZOFFSETTO:+0100
TZNAME:CET
DTSTART:20171029T010000
END:STANDARD
END:VTIMEZONE
BEGIN:VEVENT
DTSTART;TZID=Europe/Stockholm:20170217T200000
DTEND;TZID=Europe/Stockholm:20170217T210000
DTSTAMP:20260420T123213
CREATED:20170117T123450Z
LAST-MODIFIED:20170210T140526Z
UID:10610-1487361600-1487365200@arkiv.gratisuppsala.se
SUMMARY:Folkmusikduon Söderlund och Nilsson
DESCRIPTION:Folkmusikduon Söderlund och Nilsson gästar Sigtunastiftelsens bibliotek fredag 17 februari kl. 20.00.\n\n\nFolkmusikduon Söderlund och Nilsson \nKatarina Söderlund (sång) och Johan Nilsson (gitarr) är två skickliga folkmusiker och en självklar duo. I finstämd anda och med spännande arrangemang framför Katarina och Johan material från den traditionella folkliga visskatten såväl som samtida och egenkomponerad musik. Dynamiskt\, innerligt och lyhört är tre termer som passar in på denna duo. \nKatarina Söderlund och Johan Nilsson är båda utbildade i svensk folkmusik vid Kungliga Musikhögskolan i Stockholm. \n  \nSigtunastiftelsen välkomnar drop in i mån av utrymme\, men om du vill försäkra dig om en plats så förboka här (längst ner under texten finns en grå knapp som står “Boka” på). \n\n Dela evenemanget
URL:https://arkiv.gratisuppsala.se/event/folkmusikduon-soderlund-och-nilsson/
LOCATION:Sigtunastiftelsen\, Manfred Björkqvist allé 4\, Sigtuna\, 19322
CATEGORIES:Konsert,Sång och Musik
END:VEVENT
END:VCALENDAR