BEGIN:VCALENDAR
VERSION:2.0
PRODID:-//Gratis Uppsala - ECPv5.2.1//NONSGML v1.0//EN
CALSCALE:GREGORIAN
METHOD:PUBLISH
X-WR-CALNAME:Gratis Uppsala
X-ORIGINAL-URL:https://arkiv.gratisuppsala.se
X-WR-CALDESC:Händelser för Gratis Uppsala
BEGIN:VTIMEZONE
TZID:Europe/Stockholm
BEGIN:DAYLIGHT
TZOFFSETFROM:+0100
TZOFFSETTO:+0200
TZNAME:CEST
DTSTART:20170326T010000
END:DAYLIGHT
BEGIN:STANDARD
TZOFFSETFROM:+0200
TZOFFSETTO:+0100
TZNAME:CET
DTSTART:20171029T010000
END:STANDARD
END:VTIMEZONE
BEGIN:VEVENT
DTSTART;TZID=Europe/Stockholm:20170513T110000
DTEND;TZID=Europe/Stockholm:20170513T133000
DTSTAMP:20260420T020237
CREATED:20170425T104757Z
LAST-MODIFIED:20170508T080823Z
UID:13482-1494673200-1494682200@arkiv.gratisuppsala.se
SUMMARY:För din säkerhet! - en föreläsning om grundläggande kunskaper om säkerhet
DESCRIPTION:För din säkerhet\, en inbjudan till föreläsningen\nNär katastrofen är ett faktum\, det oförutsedda har inträffat eller det som du visste inte fick hända har blivit verklighet\nVad betyder det för dig att hantera en situation när ljuset inte tänds när du slår på strömbrytaren\, mobilen är död och internet har slutat fungera? \n\n\n\n\nPå föreläsningen För din säkerhet! får du grundläggande kunskaper om var du hittar information vid risker\, hur du skapar din egen beredskap inför att värme\, vatten eller el saknas hemma. \nDu stärker din och din familjs förmåga att ta hand om er själva vid kriser i samhället. Föreläsningen riktar sig till dig som är 16 år och äldre. \nNär: 13 maj klockan 10.00-12.30\nVar: Konferensblocket\, Kommunhuset Bålsta \nAnmälan sker via Försvarsutbildarnas hemsida. \nEventuella frågor besvaras av Jan Johansson på Försvarsutbildarna\, mailadress: jan.johansson@forsvarsutbildarna.se. \nFöreläsningen För din säkerhet är kostnadsfri och alla som deltar hela passet får en praktisk första hjälpen-väska.\nDet finns fika på plats under föreläsningen\, kom gärna i god tid. \nVälkomna hälsar Håbo Kommun och Försvarsutbildarna som är arrangörer. \n\n\nBild från maxpixel.freegreatpicture.com \n\n Dela evenemanget
URL:https://arkiv.gratisuppsala.se/event/for-din-sakerhet-en-forelasning/
LOCATION:Håbo kommunhus\, Centrumleden 1\, Bålsta\, 746 32\, Sverige
CATEGORIES:Föreläsning och Kurs,Kunskap och Lärande,Samhälle
ATTACH;FMTTYPE=image/jpeg:https://arkiv.gratisuppsala.se/wp-content/uploads/2017/04/Säkerhet-i-hemmet.jpg
GEO:59.5684102;17.5294527
X-APPLE-STRUCTURED-LOCATION;VALUE=URI;X-ADDRESS=Håbo kommunhus Centrumleden 1 Bålsta 746 32 Sverige;X-APPLE-RADIUS=500;X-TITLE=Centrumleden 1:geo:17.5294527,59.5684102
END:VEVENT
END:VCALENDAR