BEGIN:VCALENDAR
VERSION:2.0
PRODID:-//Gratis Uppsala - ECPv5.2.1//NONSGML v1.0//EN
CALSCALE:GREGORIAN
METHOD:PUBLISH
X-WR-CALNAME:Gratis Uppsala
X-ORIGINAL-URL:https://arkiv.gratisuppsala.se
X-WR-CALDESC:Händelser för Gratis Uppsala
BEGIN:VTIMEZONE
TZID:Europe/Stockholm
BEGIN:DAYLIGHT
TZOFFSETFROM:+0100
TZOFFSETTO:+0200
TZNAME:CEST
DTSTART:20150329T010000
END:DAYLIGHT
BEGIN:STANDARD
TZOFFSETFROM:+0200
TZOFFSETTO:+0100
TZNAME:CET
DTSTART:20151025T010000
END:STANDARD
END:VTIMEZONE
BEGIN:VEVENT
DTSTART;TZID=Europe/Stockholm:20150930T173000
DTEND;TZID=Europe/Stockholm:20150930T193000
DTSTAMP:20260420T063021
CREATED:20150915T073508Z
LAST-MODIFIED:20150915T073508Z
UID:3756-1443634200-1443641400@arkiv.gratisuppsala.se
SUMMARY:Föräldraskap och stresshantering
DESCRIPTION:Att vara förälder till en person med funktionsnedsättning ställer extra stora krav på föräldraskapet. Upplevelsen av att inte räcka till\, att alltid vilja göra mer för sitt barn kan många gånger kännas stressande. Redskap för att hantera stressen kan ge ökat välmående. \nFör dig som är förälder till barn med funktionsnedsättning har vi återigen bjudit in psykolog Bella Stensnäs. Hon kommer att\nföreläsa om red­skap för att hantera stressen för att ge ökat välmående. \nSamarbete mellan Infoteket och Hälsa och habilitering. \n  \nKaffe/ te\, smör och bröd kommer att finnas till självkostnadspris. \nFri entré. Hörslinga finns.\nAnmäl dig till: infoteket@lul.se eller 018-611 66 77.\nVarmt välkommen! \nDela evenemanget
URL:https://arkiv.gratisuppsala.se/event/foraldraskap-och-stresshantering/
LOCATION:Infoteket om funktionshinder\, S:t Johannesgatan 28 D\, Uppsala\, 752 33\, Sverige
CATEGORIES:Föreläsning och Kurs,Kropp och Själ
ORGANIZER;CN="Infoteket%20om%20funktionshinder":MAILTO:infoteket@lul.se
GEO:59.8553013;17.6213622
X-APPLE-STRUCTURED-LOCATION;VALUE=URI;X-ADDRESS=Infoteket om funktionshinder S:t Johannesgatan 28 D Uppsala 752 33 Sverige;X-APPLE-RADIUS=500;X-TITLE=S:t Johannesgatan 28 D:geo:17.6213622,59.8553013
END:VEVENT
END:VCALENDAR