BEGIN:VCALENDAR
VERSION:2.0
PRODID:-//Gratis Uppsala - ECPv5.2.1//NONSGML v1.0//EN
CALSCALE:GREGORIAN
METHOD:PUBLISH
X-WR-CALNAME:Gratis Uppsala
X-ORIGINAL-URL:https://arkiv.gratisuppsala.se
X-WR-CALDESC:Händelser för Gratis Uppsala
BEGIN:VTIMEZONE
TZID:Europe/Stockholm
BEGIN:DAYLIGHT
TZOFFSETFROM:+0100
TZOFFSETTO:+0200
TZNAME:CEST
DTSTART:20150329T010000
END:DAYLIGHT
BEGIN:STANDARD
TZOFFSETFROM:+0200
TZOFFSETTO:+0100
TZNAME:CET
DTSTART:20151025T010000
END:STANDARD
END:VTIMEZONE
BEGIN:VEVENT
DTSTART;TZID=Europe/Stockholm:20151013T200000
DTEND;TZID=Europe/Stockholm:20151013T200000
DTSTAMP:20260419T230408
CREATED:20151006T081653Z
LAST-MODIFIED:20151012T123311Z
UID:4063-1444766400-1444766400@arkiv.gratisuppsala.se
SUMMARY:Föredrag - Aktuell forskning om vindkraft - vertikalaxlad vindkraft mm
DESCRIPTION:Föredrag av Hans Bernhoff\, professor i elektricitetslära\, Uppsala universitet \nTid: Miljöpub från kl 18\, föredrag från kl 19 \nDela evenemanget
URL:https://arkiv.gratisuppsala.se/event/foredrag-aktuell-forskning-om-vindkraft-vertikalaxlad-vindkraft-mm/
LOCATION:Scandic Uplandia\, Dragarbrunnsgatan 32\, Uppsala\, Sverige
CATEGORIES:Föreläsning och Kurs
ATTACH;FMTTYPE=image/jpeg:https://arkiv.gratisuppsala.se/wp-content/uploads/2015/10/VertikalVindkraft.jpg
ORGANIZER;CN="Uppsala%20Naturskyddsf%C3%B6rening":MAILTO:s.d.johansson@gmail.com
GEO:59.8603386;17.6387337
X-APPLE-STRUCTURED-LOCATION;VALUE=URI;X-ADDRESS=Scandic Uplandia Dragarbrunnsgatan 32 Uppsala Sverige;X-APPLE-RADIUS=500;X-TITLE=Dragarbrunnsgatan 32:geo:17.6387337,59.8603386
END:VEVENT
END:VCALENDAR