BEGIN:VCALENDAR
VERSION:2.0
PRODID:-//Gratis Uppsala - ECPv5.2.1//NONSGML v1.0//EN
CALSCALE:GREGORIAN
METHOD:PUBLISH
X-WR-CALNAME:Gratis Uppsala
X-ORIGINAL-URL:https://arkiv.gratisuppsala.se
X-WR-CALDESC:Händelser för Gratis Uppsala
BEGIN:VTIMEZONE
TZID:Europe/Stockholm
BEGIN:DAYLIGHT
TZOFFSETFROM:+0100
TZOFFSETTO:+0200
TZNAME:CEST
DTSTART:20170326T010000
END:DAYLIGHT
BEGIN:STANDARD
TZOFFSETFROM:+0200
TZOFFSETTO:+0100
TZNAME:CET
DTSTART:20171029T010000
END:STANDARD
END:VTIMEZONE
BEGIN:VEVENT
DTSTART;TZID=Europe/Stockholm:20170922T150000
DTEND;TZID=Europe/Stockholm:20170922T160000
DTSTAMP:20260423T135533
CREATED:20170915T110559Z
LAST-MODIFIED:20170918T122734Z
UID:18431-1506092400-1506096000@arkiv.gratisuppsala.se
SUMMARY:Föredrag av fotograf Odd Uhrbom
DESCRIPTION:Föredrag av fotograf Odd Uhrbom\nOdd Uhrbom föreläser på Uppsala konstmuseum fredag 22/9 14.00–15.00 i samband med Uppsala fotofestival. \nUhrbom är dokumentärfotograf\, utbildad vid Christer Strömholms fotoskola i Stockholm. Han slog igenom stort med boken Gruva (1968) som han publicerade tillsammans med författaren Sara Lidman om gruvarbetarnas förhållanden vid LKAB:s gruvor i Kiruna och Malmberget. \nUhrboms fotoserie visas i utställningen Samling i förvandling: Tema Uppsala. \nVernissage: Torsdag 21/9 18.00-20.00\nTorsdag 21/9 är det vernissage på alla utställningar som ingår i Uppsala Fotofestival där Odd Uhrboms Gruva samt den finska konstnären Susanna Majuris fotografier ingår. Susanna Majuris verk visas i utställningen Itsenäissys tillsammans med fyra andra finska konstnärers verk och utställningen har öppet 23 september till 19 november 2017. \n \nLäs mer om Uppsala konstmuseums program och utställningar\, här. \n  \nBild från pixabay.com \nDela evenemanget
URL:https://arkiv.gratisuppsala.se/event/foredrag-av-fotograf-odd-uhrbom/
LOCATION:Uppsala konstmuseum\, Drottning Christinas väg 1E\, Uppsala\, 75237 \, Sverige
CATEGORIES:Föreläsning och Kurs,Konst, Fotografi och Design,Utställning
ATTACH;FMTTYPE=image/jpeg:https://arkiv.gratisuppsala.se/wp-content/uploads/2017/09/kamera2-e1505741061350.jpg
GEO:59.8532935;17.6351313
X-APPLE-STRUCTURED-LOCATION;VALUE=URI;X-ADDRESS=Uppsala konstmuseum Drottning Christinas väg 1E Uppsala 75237  Sverige;X-APPLE-RADIUS=500;X-TITLE=Drottning Christinas väg 1E:geo:17.6351313,59.8532935
END:VEVENT
END:VCALENDAR