BEGIN:VCALENDAR
VERSION:2.0
PRODID:-//Gratis Uppsala - ECPv5.2.1//NONSGML v1.0//EN
CALSCALE:GREGORIAN
METHOD:PUBLISH
X-WR-CALNAME:Gratis Uppsala
X-ORIGINAL-URL:https://arkiv.gratisuppsala.se
X-WR-CALDESC:Händelser för Gratis Uppsala
BEGIN:VTIMEZONE
TZID:Europe/Stockholm
BEGIN:DAYLIGHT
TZOFFSETFROM:+0100
TZOFFSETTO:+0200
TZNAME:CEST
DTSTART:20190331T010000
END:DAYLIGHT
BEGIN:STANDARD
TZOFFSETFROM:+0200
TZOFFSETTO:+0100
TZNAME:CET
DTSTART:20191027T010000
END:STANDARD
END:VTIMEZONE
BEGIN:VEVENT
DTSTART;TZID=Europe/Stockholm:20191120T190000
DTEND;TZID=Europe/Stockholm:20191120T200000
DTSTAMP:20260420T101457
CREATED:20191119T104754Z
LAST-MODIFIED:20191119T105151Z
UID:39677-1574276400-1574280000@arkiv.gratisuppsala.se
SUMMARY:Föredrag: Selma Lagerlöf | Bror Hjorts Hus
DESCRIPTION:Föredrag: Selma Lagerlöf | Bror Hjorts Hus\nRöda draperier runt verklighetens lik – Selma Lagerlöfs ekfras över fantasilivets uppvaknande.\n73 år gammal skrev Selma Lagerlöf sitt sista verk – Dagbok för Selma Ottilia Lovisa Lagerlöf. Dagboken utspelas när Selma är 14 år gammal och vistas en vinter i Stockholm. Selma betraktar ofta en målning på väggen i våningen där hon bor. Anna Nordlund visar målningen av Gottfrid Virgin och berättar om Lagerlöfs ekfras. \nAnna Nordlund är lektor vid Uppsala universitet och expert på Selma Lagerlöfs författarskap. 2018 utkom hennes uppmärksammade biografi Selma Lagerlöf Sveriges modernaste kvinna. \nDatum: Onsdagen den 20 November 2019\nTid: 1900 – 20:00\nPlats: Bror Hjorts Hus\nPris:  \nNormal – 60 kr\nMedlem – Bror Hjorthföreningens medlemmar går gratis och bokar biljett genom att ringa museet\npå 018-567030 (vard 9-16 och helg 12-16) \nBiljett: Biljetter köps via Tickster eller i museets reception under öppettid. \nFöredraget arrangeras med stöd från Bror Hjorthföreningen \n\n\n\nBror Hjorthföreningen\nFör enskild medlem är avgiften 250 kr/år.\nSom medlem får du från och med 2019 bland annat följande: \n\nfri entré till Bror Hjorths Hus\nfri entré på programpunkter till ordinarie pris (f.n. 60 kr)\, annars betalar du mellanskillnaden\n10% rabatt på alla produkter i museibutiken\ngratis kaffe till dig och en vän när du besöker museet\ninbjudan till minst ett föreningsexklusivt evenemang per år\ninformation om museets och föreningens verksamhet om du lämnar din e-postadress\nBiljetter till föredrag och konserter får du genom att ringa till museet mån-fre 9-16 eller lör-sön kl 12-16.\n\nMedlemsavgift betalar du antingen via bankgiro eller i museets kassa. Kontakta museet om du vill ha en faktura skickad till sig. Glöm inte att lämna din e-postadress i samband med betalning för att få inbjudningar och information! \n\n\n\n\nBesök gärna länkarna nedan (externa länkar öppnas i ett nytt fönster/flik).\nBror Hjorts Hus | Bror Hjorthföreningen | Kommande event inom Kunskap och Lärande \nFoto: Hofatelier Jaeger \nDela evenemanget
URL:https://arkiv.gratisuppsala.se/event/foredrag-selma-lagerlof-bror-hjorts-hus/
LOCATION:Bror Hjorths Hus\, Norbyvägen 26\, Uppsala\, 752 39\, Sverige
CATEGORIES:60+,Ålderskategori,Anmälan / Kostnad,Föreläsning och Kurs,Förköp / Bokning,Geografisk kategori,Gratis med medlemskap,Kåbo,Konst, Fotografi och Design,Kunskap och Lärande,Skapande och Kreativitet,Ungdom,Uppsala,Uppsala Kommun,Vuxen
ATTACH;FMTTYPE=image/jpeg:https://arkiv.gratisuppsala.se/wp-content/uploads/2019/11/727px-Atelje_Jaeger_-_Selma_Lagerlöf_1928-e1574160167824.jpeg
ORGANIZER;CN="Bror%20Hjorths%20Hus":MAILTO:info@brorhjorthshus.se
END:VEVENT
END:VCALENDAR