BEGIN:VCALENDAR
VERSION:2.0
PRODID:-//Gratis Uppsala - ECPv5.2.1//NONSGML v1.0//EN
CALSCALE:GREGORIAN
METHOD:PUBLISH
X-WR-CALNAME:Gratis Uppsala
X-ORIGINAL-URL:https://arkiv.gratisuppsala.se
X-WR-CALDESC:Händelser för Gratis Uppsala
BEGIN:VTIMEZONE
TZID:Europe/Stockholm
BEGIN:DAYLIGHT
TZOFFSETFROM:+0100
TZOFFSETTO:+0200
TZNAME:CEST
DTSTART:20150329T010000
END:DAYLIGHT
BEGIN:STANDARD
TZOFFSETFROM:+0200
TZOFFSETTO:+0100
TZNAME:CET
DTSTART:20151025T010000
END:STANDARD
END:VTIMEZONE
BEGIN:VEVENT
DTSTART;TZID=Europe/Stockholm:20151118T180000
DTEND;TZID=Europe/Stockholm:20151118T200000
DTSTAMP:20260419T184644
CREATED:20151102T151504Z
LAST-MODIFIED:20151103T091131Z
UID:4442-1447869600-1447876800@arkiv.gratisuppsala.se
SUMMARY:Bokpresentation: "Jag önskar att hon dör före mig"
DESCRIPTION:Kajsa Råhlander presenterar sin bok med samma titel. Boken handlar om att vara förälder till ett barn med funktionsnedsättning. Hur ska livssituationen bli för deras barn om inte föräldrarna finns kvar för att stötta dem? Och hur är det att inte kunna leva ett självständigt vuxenliv eller få bli pensionär i ordets rätta bemärkelse? \nFörst när man vet hur föräldrar känner och lever sina liv kan man som professionell göra de förändringar som krävs för att på olika sätt försöka ge föräldrarna ett bättre liv. \nKl 13:30-15:30 för professionella. \nKl 18:00-20:00 för anhöriga. \nFöreläsningen är ett samarbete med FUB och Autism & Aspergerföreningen. \nFri entré. Hörslinga finns. Kaffe till självkostnadspris. Anmäl till infoteket@lul.se eller 018-611 66 77. Varmt välkomna! \nInfoteket om funktionshinder\, Kungsgärdets center\, S:t Johannesgatan 28D\, Uppsala \nDela evenemanget
URL:https://arkiv.gratisuppsala.se/event/forelasning-jag-onskar-att-hon-dor-fore-mig-2/
LOCATION:Infoteket om funktionshinder\, S:t Johannesgatan 28 D\, Uppsala\, 752 33\, Sverige
CATEGORIES:Kropp och Själ
ORGANIZER;CN="Infoteket%20om%20funktionshinder":MAILTO:infoteket@lul.se
GEO:59.8553013;17.6213622
X-APPLE-STRUCTURED-LOCATION;VALUE=URI;X-ADDRESS=Infoteket om funktionshinder S:t Johannesgatan 28 D Uppsala 752 33 Sverige;X-APPLE-RADIUS=500;X-TITLE=S:t Johannesgatan 28 D:geo:17.6213622,59.8553013
END:VEVENT
END:VCALENDAR