BEGIN:VCALENDAR
VERSION:2.0
PRODID:-//Gratis Uppsala - ECPv5.2.1//NONSGML v1.0//EN
CALSCALE:GREGORIAN
METHOD:PUBLISH
X-WR-CALNAME:Gratis Uppsala
X-ORIGINAL-URL:https://arkiv.gratisuppsala.se
X-WR-CALDESC:Händelser för Gratis Uppsala
BEGIN:VTIMEZONE
TZID:Europe/Stockholm
BEGIN:DAYLIGHT
TZOFFSETFROM:+0100
TZOFFSETTO:+0200
TZNAME:CEST
DTSTART:20160327T010000
END:DAYLIGHT
BEGIN:STANDARD
TZOFFSETFROM:+0200
TZOFFSETTO:+0100
TZNAME:CET
DTSTART:20161030T010000
END:STANDARD
END:VTIMEZONE
BEGIN:VEVENT
DTSTART;TZID=Europe/Stockholm:20160217T130000
DTEND;TZID=Europe/Stockholm:20160217T170000
DTSTAMP:20260422T154758
CREATED:20160120T095534Z
LAST-MODIFIED:20160120T095534Z
UID:5814-1455714000-1455728400@arkiv.gratisuppsala.se
SUMMARY:Föreläsningsserie på Sigtunastiftelsen "Det naturvetenskapliga projeket".
DESCRIPTION:Välkommen till ”Det naturvetenskapliga projektet – Den moderna fysikens historia och filosofi”\, en spännande föreläsningsserie med professor Håkan Snellman. Detta är den första av tre seminariedagar. Föreläsningen är gratis och vi erbjuder lunch för 150 kr för den som så önskar. \nFöreläsning och lunch måste förbokas. \nFöreläsningsserien hålls onsdagar kl 13-17 den 17/2\, 2/3 och 16/3. \nDela evenemanget
URL:https://arkiv.gratisuppsala.se/event/forelasningsserie-pa-sigtunastiftelsen-det-naturvetenskapliga-projeket/
LOCATION:Sigtunastiftelsen\, Manfred Björkquists allé 4\, Sigtuna\, Sverige
CATEGORIES:Föreläsning och Kurs
ORGANIZER;CN="Sigtunastiftelsen":MAILTO:info@sigtunastiftelsen.se
GEO:59.6158714;17.7101321
X-APPLE-STRUCTURED-LOCATION;VALUE=URI;X-ADDRESS=Sigtunastiftelsen Manfred Björkquists allé 4 Sigtuna Sverige;X-APPLE-RADIUS=500;X-TITLE=Manfred Björkquists allé 4:geo:17.7101321,59.6158714
END:VEVENT
END:VCALENDAR