BEGIN:VCALENDAR
VERSION:2.0
PRODID:-//Gratis Uppsala - ECPv5.2.1//NONSGML v1.0//EN
CALSCALE:GREGORIAN
METHOD:PUBLISH
X-WR-CALNAME:Gratis Uppsala
X-ORIGINAL-URL:https://arkiv.gratisuppsala.se
X-WR-CALDESC:Händelser för Gratis Uppsala
BEGIN:VTIMEZONE
TZID:Europe/Stockholm
BEGIN:DAYLIGHT
TZOFFSETFROM:+0100
TZOFFSETTO:+0200
TZNAME:CEST
DTSTART:20160327T010000
END:DAYLIGHT
BEGIN:STANDARD
TZOFFSETFROM:+0200
TZOFFSETTO:+0100
TZNAME:CET
DTSTART:20161030T010000
END:STANDARD
END:VTIMEZONE
BEGIN:VEVENT
DTSTART;TZID=Europe/Stockholm:20160316T130000
DTEND;TZID=Europe/Stockholm:20160316T170000
DTSTAMP:20260422T041215
CREATED:20160120T101733Z
LAST-MODIFIED:20160120T101733Z
UID:5819-1458133200-1458147600@arkiv.gratisuppsala.se
SUMMARY:Föreläsningsserie på Sigtunastiftelsen "Det naturvetenskapliga projektet".
DESCRIPTION:Välkommen till ” Det naturvetenskapliga projektet”\, en föreläsningsserie med professor Håkan Snellman. Detta är den tredje och sista seminariedagen som ges. Föreläsningen är gratis och vi erbjuder lunch för 150 kr från klockan 12 för den som önskar. \nFöreläsning och lunch måste förbokas. \nDela evenemanget
URL:https://arkiv.gratisuppsala.se/event/forelasningsserie-pa-sigtunastiftelsen-det-naturvetenskapliga-projektet-2/
LOCATION:Sigtunastiftelsen\, Manfred Björkquists allé 4\, Sigtuna\, Sverige
CATEGORIES:Föreläsning och Kurs
ORGANIZER;CN="Sigtunastiftelsen":MAILTO:info@sigtunastiftelsen.se
GEO:59.6158714;17.7101321
X-APPLE-STRUCTURED-LOCATION;VALUE=URI;X-ADDRESS=Sigtunastiftelsen Manfred Björkquists allé 4 Sigtuna Sverige;X-APPLE-RADIUS=500;X-TITLE=Manfred Björkquists allé 4:geo:17.7101321,59.6158714
END:VEVENT
END:VCALENDAR