BEGIN:VCALENDAR
VERSION:2.0
PRODID:-//Gratis Uppsala - ECPv5.2.1//NONSGML v1.0//EN
CALSCALE:GREGORIAN
METHOD:PUBLISH
X-WR-CALNAME:Gratis Uppsala
X-ORIGINAL-URL:https://arkiv.gratisuppsala.se
X-WR-CALDESC:Händelser för Gratis Uppsala
BEGIN:VTIMEZONE
TZID:Europe/Stockholm
BEGIN:DAYLIGHT
TZOFFSETFROM:+0100
TZOFFSETTO:+0200
TZNAME:CEST
DTSTART:20170326T010000
END:DAYLIGHT
BEGIN:STANDARD
TZOFFSETFROM:+0200
TZOFFSETTO:+0100
TZNAME:CET
DTSTART:20171029T010000
END:STANDARD
END:VTIMEZONE
BEGIN:VEVENT
DTSTART;TZID=Europe/Stockholm:20170314T190000
DTEND;TZID=Europe/Stockholm:20170314T190000
DTSTAMP:20260420T063541
CREATED:20170309T130708Z
LAST-MODIFIED:20170309T130708Z
UID:12416-1489518000-1489518000@arkiv.gratisuppsala.se
SUMMARY:Författarbesök: Elin Cullhed
DESCRIPTION:Roman som utspelar sig i Tierp\nElin Cullhed besöker Sävjabiblioteket och talar om hyllade debutromanen “Gudarna” som utspelar sig i Tierp. \n\n\n\nElin Cullhed är författare\, kulturjournalist och lärare på skrivarlinjen på Wiks folkhögskola. Hon är bosatt i Uppsala. \nMed Gudarna gjorde Elin Cullhed under 2016 en uppmärksammad och hyllad romandebut. Huvudpersonerna Bita\, Lilly och Jane är tre sextonåringar som bor i Tierp. Tre starka\, utåtagerande och vilsna gudar i ett Tierp som de vill förändra. \nTid och plats \nTisdag 14 mars\, kl. 19.00 \nSävjabiblioteket \nFri entré. Föranmälan till biblioteket. \nBild hämtad från Google bilder \n\n Dela evenemanget
URL:https://arkiv.gratisuppsala.se/event/forfattarbesok-elin-cullhed/
LOCATION:Sävjabiblioteket\, Västgötaresan 133\, Uppsala\, 757 54\, Sverige
CATEGORIES:Litteratur och Poesi
ATTACH;FMTTYPE=image/jpeg:https://arkiv.gratisuppsala.se/wp-content/uploads/2017/03/book-791884_960_720.jpg
ORGANIZER;CN="Bibliotek%20Uppsala":MAILTO:kundtjanst@bibliotekuppsala.se
GEO:59.810724;17.702339
X-APPLE-STRUCTURED-LOCATION;VALUE=URI;X-ADDRESS=Sävjabiblioteket Västgötaresan 133 Uppsala 757 54 Sverige;X-APPLE-RADIUS=500;X-TITLE=Västgötaresan 133:geo:17.702339,59.810724
END:VEVENT
END:VCALENDAR