BEGIN:VCALENDAR
VERSION:2.0
PRODID:-//Gratis Uppsala - ECPv5.2.1//NONSGML v1.0//EN
CALSCALE:GREGORIAN
METHOD:PUBLISH
X-WR-CALNAME:Gratis Uppsala
X-ORIGINAL-URL:https://arkiv.gratisuppsala.se
X-WR-CALDESC:Händelser för Gratis Uppsala
BEGIN:VTIMEZONE
TZID:Europe/Stockholm
BEGIN:DAYLIGHT
TZOFFSETFROM:+0100
TZOFFSETTO:+0200
TZNAME:CEST
DTSTART:20180325T010000
END:DAYLIGHT
BEGIN:STANDARD
TZOFFSETFROM:+0200
TZOFFSETTO:+0100
TZNAME:CET
DTSTART:20181028T010000
END:STANDARD
END:VTIMEZONE
BEGIN:VEVENT
DTSTART;TZID=Europe/Stockholm:20180416T200000
DTEND;TZID=Europe/Stockholm:20180416T200000
DTSTAMP:20260420T220809
CREATED:20180405T063103Z
LAST-MODIFIED:20180405T063103Z
UID:23700-1523908800-1523908800@arkiv.gratisuppsala.se
SUMMARY:Författarbesök: Lina Sjöberg
DESCRIPTION:Författarbesök: Lina Sjöberg\n\n\nLina Sjöberg berättar om kritikerrosade romanen Simson. \n\n\n\nFri entré! \nTid och plats\nMåndag 16 april 19.00 \nKulturpunkten\, Gottsunda \nBild från: pixabay.com \n\n Dela evenemanget
URL:https://arkiv.gratisuppsala.se/event/forfattarbesok-lina-sjoberg/
LOCATION:Kulturpunkten Gottsunda centrum\, Valthornsvägen 7\, Uppsala\, Sverige
CATEGORIES:Litteratur och Poesi
ATTACH;FMTTYPE=image/jpeg:https://arkiv.gratisuppsala.se/wp-content/uploads/2017/08/narrative-794978_640.jpg
GEO:59.8101296;17.6299133
X-APPLE-STRUCTURED-LOCATION;VALUE=URI;X-ADDRESS=Kulturpunkten Gottsunda centrum Valthornsvägen 7 Uppsala Sverige;X-APPLE-RADIUS=500;X-TITLE=Valthornsvägen 7:geo:17.6299133,59.8101296
END:VEVENT
END:VCALENDAR