BEGIN:VCALENDAR
VERSION:2.0
PRODID:-//Gratis Uppsala - ECPv5.2.1//NONSGML v1.0//EN
CALSCALE:GREGORIAN
METHOD:PUBLISH
X-WR-CALNAME:Gratis Uppsala
X-ORIGINAL-URL:https://arkiv.gratisuppsala.se
X-WR-CALDESC:Händelser för Gratis Uppsala
BEGIN:VTIMEZONE
TZID:Europe/Stockholm
BEGIN:DAYLIGHT
TZOFFSETFROM:+0100
TZOFFSETTO:+0200
TZNAME:CEST
DTSTART:20200329T010000
END:DAYLIGHT
BEGIN:STANDARD
TZOFFSETFROM:+0200
TZOFFSETTO:+0100
TZNAME:CET
DTSTART:20201025T010000
END:STANDARD
END:VTIMEZONE
BEGIN:VEVENT
DTSTART;TZID=Europe/Stockholm:20200120T190000
DTEND;TZID=Europe/Stockholm:20200120T200000
DTSTAMP:20260420T162940
CREATED:20200114T083336Z
LAST-MODIFIED:20200114T083336Z
UID:40319-1579546800-1579550400@arkiv.gratisuppsala.se
SUMMARY:Författarbesök: Maja Hagerman | Gottsundabiblioteket
DESCRIPTION:Författarbesök: Maja Hagerman | Gottsundabiblioteket\nFörfattaren Maja Hagerman besöker Gottsundabiblioteket och berättar om sin senaste bok “Trådarna i väven”. En reflekterande bok om bland annat kulturarvet\, kulturmiljö och om hur historien finns med i vardagen. \nDatum: Måndagen den 20 januari 2020\nTid: 19:00 – 20:00\nPlats: Gottsundabiblioteket\nÅlder: Ej angivet\nPris: Fri entré\nSamarrangör: Gottsundabibliotekets vänförening \n\nOm “Trådarna i väven”\nRunt om i landet har hon mött människor som berättar om sina hemtrakter. Vid kulturföreningar\, bygdegårdar\, bibliotek och museer har de visat mig minnen de vårdar och historier de håller vid liv. Och hon har börjat tänka på Sverige som en väv som kommer rullande fram ur det förflutna och fortsätter mot framtiden.  En samhällsväv som man fått i arv och som snart ska lämnas vidare. Men det gäller att vara på sin vakt. Det pågår en dragkamp om som vad som bör räknas som svenskt kulturarv. Hennes önskan är att berättandet ska fortsätta utvecklas i frihet. Och att kulturarvet ska få vara just så komplext och mångbottnat som det faktiskt är. \n\nOm Maja Hagerman\nMaja Hagerman har skrivit flera prisbelönta fackböcker om svensk historia och är hedersdoktor vid Uppsala universitet. Hon skriver regelbundet i Dagens Nyheter\, kolumner kring temat samtid-minne-historia\, och även krönikor i hembygdsrörelsens tidskrift Bygd och Natur.  Hon har en bakgrund som vetenskapsjournalist och började sin verksamhet inom radio och TV\, med att berätta om nya rön inom humanistisk forskning\, om allt från mentalitetshistoria till arkeologi. Men sedan nästan femton år är hon författare på heltid och flitigt anlitad som föredragshållare. \n\nBesök gärna länkarna nedan i \nFörfattarbesök på Gottsundabiblioteket | Kommande författarbesök \nFoto Claes Gabrielson \nDela evenemanget
URL:https://arkiv.gratisuppsala.se/event/forfattarbesok-maja-hagerman-gottsundabiblioteket/
LOCATION:Gottsundabiblioteket\, Valthornsvägen 11\, Uppsala\, 756 50 \, Sverige
CATEGORIES:Ålderskategori,Anmälan / Kostnad,Barn,Bibliotek,Familj,För anhöriga,Författarbesök,Geografisk kategori,Gottsunda,Gratis,Litteratur och Poesi,Ungdom,Uppsala,Vuxen
ATTACH;FMTTYPE=image/jpeg:https://arkiv.gratisuppsala.se/wp-content/uploads/2020/01/hagerman_maja_9-e1578655081293.jpg
ORGANIZER;CN="Gottsundabiblioteket":MAILTO:gottsundabiblioteket@uppsala.se
GEO:59.8093409;17.6295555
X-APPLE-STRUCTURED-LOCATION;VALUE=URI;X-ADDRESS=Gottsundabiblioteket Valthornsvägen 11 Uppsala 756 50  Sverige;X-APPLE-RADIUS=500;X-TITLE=Valthornsvägen 11:geo:17.6295555,59.8093409
END:VEVENT
END:VCALENDAR