BEGIN:VCALENDAR
VERSION:2.0
PRODID:-//Gratis Uppsala - ECPv5.2.1//NONSGML v1.0//EN
CALSCALE:GREGORIAN
METHOD:PUBLISH
X-WR-CALNAME:Gratis Uppsala
X-ORIGINAL-URL:https://arkiv.gratisuppsala.se
X-WR-CALDESC:Händelser för Gratis Uppsala
BEGIN:VTIMEZONE
TZID:Europe/Stockholm
BEGIN:DAYLIGHT
TZOFFSETFROM:+0100
TZOFFSETTO:+0200
TZNAME:CEST
DTSTART:20160327T010000
END:DAYLIGHT
BEGIN:STANDARD
TZOFFSETFROM:+0200
TZOFFSETTO:+0100
TZNAME:CET
DTSTART:20161030T010000
END:STANDARD
END:VTIMEZONE
BEGIN:VEVENT
DTSTART;TZID=Europe/Stockholm:20160118T190000
DTEND;TZID=Europe/Stockholm:20160118T200000
DTSTAMP:20260419T185031
CREATED:20160104T103119Z
LAST-MODIFIED:20160104T103119Z
UID:5583-1453143600-1453147200@arkiv.gratisuppsala.se
SUMMARY:Författarbesök med Kristina Sandberg
DESCRIPTION:Kom och lyssna på Kristina Sandberg\, författaren bakom den hyllade trilogin om hemmafrun från Örnskö. \nDela evenemanget
URL:https://arkiv.gratisuppsala.se/event/forfattarbesok-med-kristina-sandberg/
LOCATION:Gottsundabiblioteket\, Valthornsvägen 11\, Uppsala\, 756 50 \, Sverige
ATTACH;FMTTYPE=image/jpeg:https://arkiv.gratisuppsala.se/wp-content/uploads/2015/08/Böcker.jpg
GEO:59.8093409;17.6295555
X-APPLE-STRUCTURED-LOCATION;VALUE=URI;X-ADDRESS=Gottsundabiblioteket Valthornsvägen 11 Uppsala 756 50  Sverige;X-APPLE-RADIUS=500;X-TITLE=Valthornsvägen 11:geo:17.6295555,59.8093409
END:VEVENT
END:VCALENDAR