BEGIN:VCALENDAR
VERSION:2.0
PRODID:-//Gratis Uppsala - ECPv5.2.1//NONSGML v1.0//EN
CALSCALE:GREGORIAN
METHOD:PUBLISH
X-WR-CALNAME:Gratis Uppsala
X-ORIGINAL-URL:https://arkiv.gratisuppsala.se
X-WR-CALDESC:Händelser för Gratis Uppsala
BEGIN:VTIMEZONE
TZID:Europe/Stockholm
BEGIN:DAYLIGHT
TZOFFSETFROM:+0100
TZOFFSETTO:+0200
TZNAME:CEST
DTSTART:20170326T010000
END:DAYLIGHT
BEGIN:STANDARD
TZOFFSETFROM:+0200
TZOFFSETTO:+0100
TZNAME:CET
DTSTART:20171029T010000
END:STANDARD
END:VTIMEZONE
BEGIN:VEVENT
DTSTART;TZID=Europe/Stockholm:20170913T190000
DTEND;TZID=Europe/Stockholm:20170913T220000
DTSTAMP:20260424T004035
CREATED:20170907T125137Z
LAST-MODIFIED:20170907T125137Z
UID:17906-1505329200-1505340000@arkiv.gratisuppsala.se
SUMMARY:Författarkväll med Johan Svedjedal
DESCRIPTION:Författarkväll på Studentbokhandeln\nSer du fram emot en höst fylld av spännande läsning? Missa inte författarkvällarna! \nDen 13 september kommer Johan Svedjedal till Studentbokhandeln och pratar om sin bok Den nya dagen gryr\, en biografi om Karin Boye. Samtalsledare är journalisten och författaren Ulrika Knutson. \nGratis inträde\, men föranmälan krävs. För mer information och biljettbokning: www.studentbokhandeln.se/evenemang\n\nBild från commons.wikimedia.org \n\n Dela evenemanget
URL:https://arkiv.gratisuppsala.se/event/forfattarkvall-johan-svedjedal/
LOCATION:Studentbokhandeln\, Sysslomansgatan 7\, Uppsala
CATEGORIES:Vuxen
ATTACH;FMTTYPE=image/jpeg:https://arkiv.gratisuppsala.se/wp-content/uploads/2017/09/Johan_Svedjedal-e1504791878254.jpeg
GEO:59.8597989;17.6309621
X-APPLE-STRUCTURED-LOCATION;VALUE=URI;X-ADDRESS=Studentbokhandeln Sysslomansgatan 7 Uppsala;X-APPLE-RADIUS=500;X-TITLE=Sysslomansgatan 7:geo:17.6309621,59.8597989
END:VEVENT
END:VCALENDAR