BEGIN:VCALENDAR
VERSION:2.0
PRODID:-//Gratis Uppsala - ECPv5.2.1//NONSGML v1.0//EN
CALSCALE:GREGORIAN
METHOD:PUBLISH
X-WR-CALNAME:Gratis Uppsala
X-ORIGINAL-URL:https://arkiv.gratisuppsala.se
X-WR-CALDESC:Händelser för Gratis Uppsala
BEGIN:VTIMEZONE
TZID:Europe/Stockholm
BEGIN:DAYLIGHT
TZOFFSETFROM:+0100
TZOFFSETTO:+0200
TZNAME:CEST
DTSTART:20150329T010000
END:DAYLIGHT
BEGIN:STANDARD
TZOFFSETFROM:+0200
TZOFFSETTO:+0100
TZNAME:CET
DTSTART:20151025T010000
END:STANDARD
END:VTIMEZONE
BEGIN:VEVENT
DTSTART;TZID=Europe/Stockholm:20151007T193000
DTEND;TZID=Europe/Stockholm:20151007T210000
DTSTAMP:20260421T152632
CREATED:20150918T064800Z
LAST-MODIFIED:20150918T065330Z
UID:3783-1444246200-1444251600@arkiv.gratisuppsala.se
SUMMARY:Författarkväll - Kjell Eriksson
DESCRIPTION:Uppsalaförfattaren Kjell Eriksson läser ur sin nya bok: “Att skjuta hästar”\, och berättar hur den kom till – i samtal med Maria Klasson Sundin.  \nSamarbete med Förbundet Kristen humanism.  \nFunbo församlingshem. \nFika serveras.\n \nDela evenemanget
URL:https://arkiv.gratisuppsala.se/event/forfattarkvall-kjell-eriksson/
LOCATION:Funbo församlingshem (intill Funbo kyrka)\, Funbo\, Uppsala\, 75597
CATEGORIES:Föreläsning och Kurs
ATTACH;FMTTYPE=image/jpeg:https://arkiv.gratisuppsala.se/wp-content/uploads/2015/08/Böcker.jpg
END:VEVENT
END:VCALENDAR