BEGIN:VCALENDAR
VERSION:2.0
PRODID:-//Gratis Uppsala - ECPv5.2.1//NONSGML v1.0//EN
CALSCALE:GREGORIAN
METHOD:PUBLISH
X-WR-CALNAME:Gratis Uppsala
X-ORIGINAL-URL:https://arkiv.gratisuppsala.se
X-WR-CALDESC:Händelser för Gratis Uppsala
BEGIN:VTIMEZONE
TZID:Europe/Stockholm
BEGIN:DAYLIGHT
TZOFFSETFROM:+0100
TZOFFSETTO:+0200
TZNAME:CEST
DTSTART:20160327T010000
END:DAYLIGHT
BEGIN:STANDARD
TZOFFSETFROM:+0200
TZOFFSETTO:+0100
TZNAME:CET
DTSTART:20161030T010000
END:STANDARD
END:VTIMEZONE
BEGIN:VEVENT
DTSTART;TZID=Europe/Stockholm:20160413T200000
DTEND;TZID=Europe/Stockholm:20160413T220000
DTSTAMP:20260421T181912
CREATED:20160406T102605Z
LAST-MODIFIED:20160406T102605Z
UID:6638-1460577600-1460584800@arkiv.gratisuppsala.se
SUMMARY:Författarkväll med Magdalena Ribbing och Maria Ernestam
DESCRIPTION:Obs! Fri entré men föranmäl dig i butiken eller mejla eventlundeq@akademibokhandeln.se senast 12 april. \nDen sårade pianisten av Maria Ernestam är en roman om relationer\, hemligheter och drömmar. Om barndomens spöken\, musikens betydelse och människor som söker möjligheten att leva ett fritt liv. \nMaria Ernestams böcker har kallats dramatiska psykologiska spänningsromaner kryddade med oväntade vändningar och drastisk humor. De är moderna sagor om det osannolika som kan hända i verkliga livet. Böckerna har sålts till ett flertal länder och nått stora framgångar i Frankrike\, där hon tilldelats det prestigefulla litterära priset Page des Libraires. \n  \nRibbings etikett är Magdalena Ribbings nyskrivna\, heltäckande\, moderna etikettbok! Generöst delar hon med sig av sin rika kunskap om förväntat och trevligt uppförande i alla tänkbara sällskapssituationer. \nMagdalena Ribbing är Sveriges mest kända auktoritet i stil- och etikettfrågor och har skrivit ett flertal böcker i ämnet. För sin bildningsgärning har Magdalena Ribbing tilldelats Gastronomiska Akademiens guldmedalj och S:t Eriksmedaljen\, Stockholms stads högsta utmärkelse. \nDela evenemanget
URL:https://arkiv.gratisuppsala.se/event/forfattarkvall-med-magdalena-ribbing-och-maria-ernestam/
LOCATION:Akademibokhandeln LundeQ\, Bredgränd 6\, Uppsala\, 75320\, Sverige
GEO:59.8576673;17.6411764
X-APPLE-STRUCTURED-LOCATION;VALUE=URI;X-ADDRESS=Akademibokhandeln LundeQ Bredgränd 6 Uppsala 75320 Sverige;X-APPLE-RADIUS=500;X-TITLE=Bredgränd 6:geo:17.6411764,59.8576673
END:VEVENT
END:VCALENDAR