BEGIN:VCALENDAR
VERSION:2.0
PRODID:-//Gratis Uppsala - ECPv5.2.1//NONSGML v1.0//EN
CALSCALE:GREGORIAN
METHOD:PUBLISH
X-WR-CALNAME:Gratis Uppsala
X-ORIGINAL-URL:https://arkiv.gratisuppsala.se
X-WR-CALDESC:Händelser för Gratis Uppsala
BEGIN:VTIMEZONE
TZID:Europe/Stockholm
BEGIN:DAYLIGHT
TZOFFSETFROM:+0100
TZOFFSETTO:+0200
TZNAME:CEST
DTSTART:20200329T010000
END:DAYLIGHT
BEGIN:STANDARD
TZOFFSETFROM:+0200
TZOFFSETTO:+0100
TZNAME:CET
DTSTART:20201025T010000
END:STANDARD
END:VTIMEZONE
BEGIN:VEVENT
DTSTART;TZID=Europe/Stockholm:20200115T153000
DTEND;TZID=Europe/Stockholm:20200115T163000
DTSTAMP:20260420T134146
CREATED:20191212T125636Z
LAST-MODIFIED:20191212T125636Z
UID:39970-1579102200-1579105800@arkiv.gratisuppsala.se
SUMMARY:Fotbollscamp med Fyrisgården IK | Footyard
DESCRIPTION:Fotbollscamp med Fyrisgården IK | Footyard\n\n\nFyrisgården IK erbjuder fotbollsträning för personer med funktionsnedsättning. Kom och spela fotboll där man tillsammans tränar på Footyard i Boländerna\, och ibland utomhus när vädret tillåter\, tillsammans med duktiga och engagerade ledare. \n\n\nDatum: \nJanuari\nOnsdagen den 15 Januari 2020\nOnsdagen den 22 Januari 2020\nOnsdagen den 29 Januari 2020 \nFebruari\nOnsdagen den 5 Februari 2020\nOnsdagen den 12 Februari 2020\nOnsdagen den 19 Februari 2020\nOnsdagen den 26 Februari 2020 \nMars\nOnsdagen den 4 Mars 2020 \nTid: 15.30-16.30 (samtliga dagar)\nPlats: Footyard\, Rapsgatan 8\, 754 50 Uppsala\nÅlder: Ej angivet\nPris: Gratis med medlemskap\nMedlemskap : \nMedlemskap i Fyrisgården krävs.\n100 kr/person eller 150 kr/familj per kalenderår. \nFrågor? Kontakta Thomas Robertsson \n  \n\nOm Fyrisgården Idrottsklubb\nPå Fyrisgården har man länge sysslat med idrott för alla. I över tio år har man erbjudit innebandy\, fotboll och dans för personer med funktionsnedsättning. Sedan 2018 bedrivs idrottsverksamheten genom idrottsavdelningen – Fyrisgården IK. \n\nBesök gärna länkarna nedan (externa länkar öppnas i ett nytt fönster/flik).\nFyrisgårdens Fotbollscamp | Kommande event inom sport & motion \nFoto: Pixabay \nDela evenemanget
URL:https://arkiv.gratisuppsala.se/event/fotbollscamp-med-fyrisgarden-ik-footyard/2020-01-15/
LOCATION:Footyard\, Rapsgatan 8\, Uppsala\, 754 50\, Sverige
CATEGORIES:Ålderskategori,Anmälan / Kostnad,Barn,Familj,Funktionsvariationer,Geografisk kategori,Gratis med medlemskap,Identitet,Läger,Skollov,Sportlov,Ungdom,Uppsala,Utomhusaktivitet,Vuxen
ATTACH;FMTTYPE=image/jpeg:https://arkiv.gratisuppsala.se/wp-content/uploads/2019/12/duel-2042593_1280-e1575888084554.jpg
ORGANIZER;CN="Fyrisg%C3%A5rden":MAILTO:exp@fyrisgarden.se
END:VEVENT
END:VCALENDAR