BEGIN:VCALENDAR
VERSION:2.0
PRODID:-//Gratis Uppsala - ECPv5.2.1//NONSGML v1.0//EN
CALSCALE:GREGORIAN
METHOD:PUBLISH
X-WR-CALNAME:Gratis Uppsala
X-ORIGINAL-URL:https://arkiv.gratisuppsala.se
X-WR-CALDESC:Händelser för Gratis Uppsala
BEGIN:VTIMEZONE
TZID:Europe/Stockholm
BEGIN:DAYLIGHT
TZOFFSETFROM:+0100
TZOFFSETTO:+0200
TZNAME:CEST
DTSTART:20150329T010000
END:DAYLIGHT
BEGIN:STANDARD
TZOFFSETFROM:+0200
TZOFFSETTO:+0100
TZNAME:CET
DTSTART:20151025T010000
END:STANDARD
END:VTIMEZONE
BEGIN:VEVENT
DTSTART;TZID=Europe/Stockholm:20151019T200000
DTEND;TZID=Europe/Stockholm:20151019T210000
DTSTAMP:20260419T230109
CREATED:20151015T094450Z
LAST-MODIFIED:20151015T094450Z
UID:4160-1445284800-1445288400@arkiv.gratisuppsala.se
SUMMARY:Från Röda huset till Stadshuset
DESCRIPTION:Från röda huset till Stadshuset\nMohamad Hassans berättelse om krig och fasor i ett Libanon där grannar ställs mot grannar. Det är också en berättelse om en resa\, från Röda huset mitt i Beirut till Stadshuset i Uppsala. \nTillsammans med Ulf Broberg har Mohamad Hassan skrivit boken som utgör grunden för denna berättelse. \nGottsundabiblioteket\, måndag 19 oktober kl 19.00. \nPris: Gratis. Längd: 1 timme. \n  \n  \nDela evenemanget
URL:https://arkiv.gratisuppsala.se/event/fran-roda-huset-till-stadshuset/
LOCATION:Gottsundabiblioteket\, Valthornsvägen 11\, Uppsala\, 756 50 \, Sverige
CATEGORIES:Föreläsning och Kurs,Samhälle
ORGANIZER;CN="Bibliotek%20Uppsala":MAILTO:kundtjanst@bibliotekuppsala.se
GEO:59.8093409;17.6295555
X-APPLE-STRUCTURED-LOCATION;VALUE=URI;X-ADDRESS=Gottsundabiblioteket Valthornsvägen 11 Uppsala 756 50  Sverige;X-APPLE-RADIUS=500;X-TITLE=Valthornsvägen 11:geo:17.6295555,59.8093409
END:VEVENT
END:VCALENDAR