BEGIN:VCALENDAR
VERSION:2.0
PRODID:-//Gratis Uppsala - ECPv5.2.1//NONSGML v1.0//EN
CALSCALE:GREGORIAN
METHOD:PUBLISH
X-WR-CALNAME:Gratis Uppsala
X-ORIGINAL-URL:https://arkiv.gratisuppsala.se
X-WR-CALDESC:Händelser för Gratis Uppsala
BEGIN:VTIMEZONE
TZID:Europe/Stockholm
BEGIN:DAYLIGHT
TZOFFSETFROM:+0100
TZOFFSETTO:+0200
TZNAME:CEST
DTSTART:20200329T010000
END:DAYLIGHT
BEGIN:STANDARD
TZOFFSETFROM:+0200
TZOFFSETTO:+0100
TZNAME:CET
DTSTART:20201025T010000
END:STANDARD
END:VTIMEZONE
BEGIN:VEVENT
DTSTART;TZID=Europe/Stockholm:20201127T160000
DTEND;TZID=Europe/Stockholm:20201127T170000
DTSTAMP:20260419T175212
CREATED:20201019T134003Z
LAST-MODIFIED:20201123T131104Z
UID:49777-1606492800-1606496400@arkiv.gratisuppsala.se
SUMMARY:INSTÄLLD - Fredagsquiz - tema TV-spel | Uppsala stadsbibliotek
DESCRIPTION:INSTÄLLD – Fredagsquiz – tema TV-spel\n\nINSTÄLLD – Ok\, är du redo att testa dina kunskaper om tv-spel? I potten ligger 5 biobiljetter och det spelar ingen roll om du är sämst på Fortnite. \nDu kan tävla själv eller som lag och förutom biobiljetter finns även böcker att vinna. Man tävlar med sin mobil\, om du inte har en så finns det att låna. \nDatum: Fredagen den 27 november 2020\nTid: 16.00-17.00\nPlats: Uppsala Stadsbibliotek\, Mallas sal\nÅlder: Unga\, alla intresserade\nSpråk: Svenska\nPris: Fri entré \nObservera att antal deltagare är begränsat till folkhälsomyndighetens rekommendationer.  \n\nOm Bibliotek Uppsala\nBibliotek Uppsala är det övergripande namnet för Uppsala kommuns folkbiblioteksverksamhet\, och där ingår Uppsala Stadsbibliotek. \nBibliotek Uppsala vill vara en plats för möten\, kunskap och upplevelser. Tanken är att ge alla Uppsalabor tillgång till berättelser och information som kan ge nya insikter och nya perspektiv. Genom ett författarsamtal\, en bok\, en utställning\, en sagostund eller någon annan av de hundratals aktiviteter och arrangemang som erbjuds varje år. \nVerksamheten omfattar bland annat 13 bibliotek\, två bokbussar\, fyra bibliotekscyklar och ett bibliotek på nätet. \n\nBesök gärna länkarna nedan (externa länkar öppnas i ett nytt fönster/flik).\nBibliotek Uppsala | Kommande inom Spel och Tävling \n  \nDela evenemanget
URL:https://arkiv.gratisuppsala.se/event/fredagsquiz-tema-tv-spel-uppsala-stadsbibliotek/
LOCATION:Uppsala Stadsbiblioteket\, Svartbäcksgatan 17\, Uppsala\, Uppsala\, 753 75 Uppsala\, Sverige
CATEGORIES:Ålderskategori,Anmälan / Kostnad,Barn,Bibliotek,Centrum,Eventkategori,Geografisk kategori,Ingen föranmälan,Inställd,Litteratur och Poesi,Spel & tävling,Status,Ungdom,Uppsala
ATTACH;FMTTYPE=image/jpeg:https://arkiv.gratisuppsala.se/wp-content/uploads/2020/09/pexels-pixabay-264905-1-scaled-e1602498378463.jpg
GEO:59.8606206;17.6353278
X-APPLE-STRUCTURED-LOCATION;VALUE=URI;X-ADDRESS=Uppsala Stadsbiblioteket Svartbäcksgatan 17 Uppsala Uppsala 753 75 Uppsala Sverige;X-APPLE-RADIUS=500;X-TITLE=Svartbäcksgatan 17:geo:17.6353278,59.8606206
END:VEVENT
END:VCALENDAR