BEGIN:VCALENDAR
VERSION:2.0
PRODID:-//Gratis Uppsala - ECPv5.2.1//NONSGML v1.0//EN
CALSCALE:GREGORIAN
METHOD:PUBLISH
X-WR-CALNAME:Gratis Uppsala
X-ORIGINAL-URL:https://arkiv.gratisuppsala.se
X-WR-CALDESC:Händelser för Gratis Uppsala
BEGIN:VTIMEZONE
TZID:Europe/Stockholm
BEGIN:DAYLIGHT
TZOFFSETFROM:+0100
TZOFFSETTO:+0200
TZNAME:CEST
DTSTART:20160327T010000
END:DAYLIGHT
BEGIN:STANDARD
TZOFFSETFROM:+0200
TZOFFSETTO:+0100
TZNAME:CET
DTSTART:20161030T010000
END:STANDARD
END:VTIMEZONE
BEGIN:VEVENT
DTSTART;TZID=Europe/Stockholm:20160930T150000
DTEND;TZID=Europe/Stockholm:20160930T153000
DTSTAMP:20260420T024352
CREATED:20160920T090038Z
LAST-MODIFIED:20160920T090331Z
UID:8353-1475247600-1475249400@arkiv.gratisuppsala.se
SUMMARY:Fredagsvisningar på Upplandsmuseet
DESCRIPTION:Fredag 30 september allmän visning av utställningen Tiden i rummet – människor i Uppland under 5000 år. \n  \nVarje fredag kl. 14 erbjuder Upplandsmuseet en allmän visning av någon av museets utställningar. Visningen tar 30 minuter och är gratis. \nDela evenemanget
URL:https://arkiv.gratisuppsala.se/event/fredagsvisningar-pa-upplandsmuseet-2016-09-30/
LOCATION:Upplandsmuseet\, Fyristorg 2\, Uppsala\, Sverige
CATEGORIES:Samhälle,Utställning
ATTACH;FMTTYPE=image/jpeg:https://arkiv.gratisuppsala.se/wp-content/uploads/2016/06/Upplandsmuseet-e1474365279570.jpg
GEO:59.85895;17.634901
X-APPLE-STRUCTURED-LOCATION;VALUE=URI;X-ADDRESS=Upplandsmuseet Fyristorg 2 Uppsala Sverige;X-APPLE-RADIUS=500;X-TITLE=Fyristorg 2:geo:17.634901,59.85895
END:VEVENT
END:VCALENDAR