BEGIN:VCALENDAR
VERSION:2.0
PRODID:-//Gratis Uppsala - ECPv5.2.1//NONSGML v1.0//EN
CALSCALE:GREGORIAN
METHOD:PUBLISH
X-WR-CALNAME:Gratis Uppsala
X-ORIGINAL-URL:https://arkiv.gratisuppsala.se
X-WR-CALDESC:Händelser för Gratis Uppsala
BEGIN:VTIMEZONE
TZID:Europe/Stockholm
BEGIN:DAYLIGHT
TZOFFSETFROM:+0100
TZOFFSETTO:+0200
TZNAME:CEST
DTSTART:20190331T010000
END:DAYLIGHT
BEGIN:STANDARD
TZOFFSETFROM:+0200
TZOFFSETTO:+0100
TZNAME:CET
DTSTART:20191027T010000
END:STANDARD
END:VTIMEZONE
BEGIN:VEVENT
DTSTART;TZID=Europe/Stockholm:20191130T120000
DTEND;TZID=Europe/Stockholm:20191130T150000
DTSTAMP:20260421T103838
CREATED:20191125T092808Z
LAST-MODIFIED:20191125T092808Z
UID:39713-1575115200-1575126000@arkiv.gratisuppsala.se
SUMMARY:Fyrisgårdens årliga Julbasar 2019
DESCRIPTION:Fyrisgårdens årliga Julbasar 2019\nPå Fyrisgårdens Julbasar öppnar man upp hela huset och fyller det med hantverk\, loppis och aktiviteter. Dit kan ni komma för att värma er och fynda bland de olika hantverk som Fyrisgårdens basargrupp skapat under året. \nDatum: Lördagen den 30 November 2019\nTid: 12:00-15:00\nPlats: Fyrisgården\, Svartbäcksgatan 58 Uppsala\nÅlder: Ej angivet\nPris: Fri Entré \n  \n\nOm Fyrisgården\nFyrisgården är den enda hemgården i Uppsala och en av Sveriges tio kvarvarande hemgårdar. Där jobbar man dagligen för att skapa möten mellan människor och erbjuda en utvecklande fritid oavsett funktionsförmåga\, ursprung\, intresse eller ålder. Innovation och nytänkande är de viktigaste verktygen för att uppnå detta\, och med avstamp i hemgårdsrörelsens historia tar man gärna de första trevande stegen in i något nytt. \n  \n\nBesök gärna länkarna nedan (externa länkar öppnas i ett nytt fönster/flik).\nJulmarknad på Fysisgården | Kommande julmarknadader \nFoto: Pexels \nDela evenemanget
URL:https://arkiv.gratisuppsala.se/event/fyrisgardens-julbasar-2019/
LOCATION:Fyrisgården\, Svartbäcksgatan 58\, Uppsala\, 753 33\, Sverige
CATEGORIES:60+,Ålderskategori,Anmälan / Kostnad,Barn,Eventkategori,Familj,Funktionsvariationer,Geografisk kategori,Gratis,Högtid,Identitet,Ingen föranmälan,Jul,Julmarknad,Skapande och Kreativitet,Slöjd och Hantverk,Svartbäcken,Ungdom,Uppsala,Uppsala Kommun,Vuxen
ATTACH;FMTTYPE=image/jpeg:https://arkiv.gratisuppsala.se/wp-content/uploads/2019/11/art-background-beautiful-414544-e1572529488719.jpg
ORGANIZER;CN="Fyrisg%C3%A5rden":MAILTO:exp@fyrisgarden.se
GEO:59.8679005;17.625502
X-APPLE-STRUCTURED-LOCATION;VALUE=URI;X-ADDRESS=Fyrisgården Svartbäcksgatan 58 Uppsala 753 33 Sverige;X-APPLE-RADIUS=500;X-TITLE=Svartbäcksgatan 58:geo:17.625502,59.8679005
END:VEVENT
END:VCALENDAR