BEGIN:VCALENDAR
VERSION:2.0
PRODID:-//Gratis Uppsala - ECPv5.2.1//NONSGML v1.0//EN
CALSCALE:GREGORIAN
METHOD:PUBLISH
X-WR-CALNAME:Gratis Uppsala
X-ORIGINAL-URL:https://arkiv.gratisuppsala.se
X-WR-CALDESC:Händelser för Gratis Uppsala
BEGIN:VTIMEZONE
TZID:Europe/Stockholm
BEGIN:DAYLIGHT
TZOFFSETFROM:+0100
TZOFFSETTO:+0200
TZNAME:CEST
DTSTART:20180325T010000
END:DAYLIGHT
BEGIN:STANDARD
TZOFFSETFROM:+0200
TZOFFSETTO:+0100
TZNAME:CET
DTSTART:20181028T010000
END:STANDARD
END:VTIMEZONE
BEGIN:VEVENT
DTSTART;TZID=Europe/Stockholm:20180905T190000
DTEND;TZID=Europe/Stockholm:20180905T210000
DTSTAMP:20260420T162833
CREATED:20180903T182520Z
LAST-MODIFIED:20180903T182520Z
UID:28483-1536174000-1536181200@arkiv.gratisuppsala.se
SUMMARY:Fysisk aktivitet och funktionsnedsättning
DESCRIPTION:Fysisk aktivitet och funktionsnedsättning\nSjukgymnaster från habiliteringen ger inspiration till fysisk aktivitet vid olika funktionsnedsättningar\, tips för att stötta till fysisk aktivitet och information om aktiviteter inom Uppsala län \nI Siriusbollen är det aldrig försent att börja träna\nExempel på aktivitet är “Siriusbollen” som erbjuder ungdomar med funktionsnedsättning möjlighet att spela fotboll. Träningsgrupperna är mindre och träningen mer individanpassad. Git Roxström berättar om hur Siriusbollen arbetar med utveckling av grupper och av individer samt vilka metoder som används för att effektivisera inlärningssituationer. \nPlats: Infoteket om funktionshinder\, Kungsgärdets center\,\nS:t Johannesgatan 28 D\, Uppsala\nSå här hittar du till Infoteket (länk till Google) \nAnmälan till: infoteket@regionuppsala.se eller 018-611 66 77. \nFri entré.\nHörslinga finns. \nAlla intresserade är varmt välkomna! \nEtt samarrangemang med habiliteringen och IK Sirius fotboll. \nHemsida: Infoteket om funktionshinder \nBild: Pixabay.com \nDela evenemanget
URL:https://arkiv.gratisuppsala.se/event/fysisk-aktivitet-funktionsnedsattning/
LOCATION:Infoteket om funktionshinder\, S:t Johannesgatan 28 D\, Uppsala\, 752 33\, Sverige
CATEGORIES:För anhöriga,Kunskap och Lärande,Sport & Motion,Ungdom,Vuxen
ATTACH;FMTTYPE=image/jpeg:https://arkiv.gratisuppsala.se/wp-content/uploads/2018/09/football-3024154_1920-e1536002557635.jpg
GEO:59.8553013;17.6213622
X-APPLE-STRUCTURED-LOCATION;VALUE=URI;X-ADDRESS=Infoteket om funktionshinder S:t Johannesgatan 28 D Uppsala 752 33 Sverige;X-APPLE-RADIUS=500;X-TITLE=S:t Johannesgatan 28 D:geo:17.6213622,59.8553013
END:VEVENT
END:VCALENDAR