BEGIN:VCALENDAR
VERSION:2.0
PRODID:-//Gratis Uppsala - ECPv5.2.1//NONSGML v1.0//EN
CALSCALE:GREGORIAN
METHOD:PUBLISH
X-WR-CALNAME:Gratis Uppsala
X-ORIGINAL-URL:https://arkiv.gratisuppsala.se
X-WR-CALDESC:Händelser för Gratis Uppsala
BEGIN:VTIMEZONE
TZID:Europe/Stockholm
BEGIN:DAYLIGHT
TZOFFSETFROM:+0100
TZOFFSETTO:+0200
TZNAME:CEST
DTSTART:20160327T010000
END:DAYLIGHT
BEGIN:STANDARD
TZOFFSETFROM:+0200
TZOFFSETTO:+0100
TZNAME:CET
DTSTART:20161030T010000
END:STANDARD
END:VTIMEZONE
BEGIN:VEVENT
DTSTART;TZID=Europe/Stockholm:20161105T180000
DTEND;TZID=Europe/Stockholm:20161105T210000
DTSTAMP:20260420T162836
CREATED:20161103T094406Z
LAST-MODIFIED:20161103T094406Z
UID:9249-1478368800-1478379600@arkiv.gratisuppsala.se
SUMMARY:Gastar på Gustavianum
DESCRIPTION:Möt gastar\, spöken och vålnader från det förflutna på plats i Gustavianum. Hör deras berättelser om huset och de utställda föremålen. Ta gärna med dig en egen ficklampa på spökvandringen. \n5 november klockan 18.00\, tur på svenska för familjer \n5 november klockan 20.00\, tur på engelska med utökat skräcktema \nGratis biljetter via Gustavianums butik. Biljetterna finns tillgängliga från och med lördagen den 29 okt kl 11. \n\n\n\n\n\nDatum: 2016-11-05 kl 18:00 – 21:00\nPlats: Museum Gustavianum\nArrangör: Museum Gustavianum\nKontaktperson: Cecilia Ödman\nFamiljeaktivitet\n\n\n Dela evenemanget
URL:https://arkiv.gratisuppsala.se/event/gastar-pa-gustavianum/
LOCATION:Museum Gustavianum\, Akademigatan 3\, Uppsala\, 75310\, Sverige
CATEGORIES:Höstlov,Museum
ATTACH;FMTTYPE=image/jpeg:https://arkiv.gratisuppsala.se/wp-content/uploads/2015/09/800px-Gustavianum_Uppsala-e1441791166957.jpg
ORGANIZER;CN="Museum%20Gustavianum":MAILTO:museum@gustavianum.uu.se
GEO:59.8579596;17.6318354
X-APPLE-STRUCTURED-LOCATION;VALUE=URI;X-ADDRESS=Museum Gustavianum Akademigatan 3 Uppsala 75310 Sverige;X-APPLE-RADIUS=500;X-TITLE=Akademigatan 3:geo:17.6318354,59.8579596
END:VEVENT
END:VCALENDAR