BEGIN:VCALENDAR
VERSION:2.0
PRODID:-//Gratis Uppsala - ECPv5.2.1//NONSGML v1.0//EN
CALSCALE:GREGORIAN
METHOD:PUBLISH
X-WR-CALNAME:Gratis Uppsala
X-ORIGINAL-URL:https://arkiv.gratisuppsala.se
X-WR-CALDESC:Händelser för Gratis Uppsala
BEGIN:VTIMEZONE
TZID:Europe/Stockholm
BEGIN:DAYLIGHT
TZOFFSETFROM:+0100
TZOFFSETTO:+0200
TZNAME:CEST
DTSTART:20160327T010000
END:DAYLIGHT
BEGIN:STANDARD
TZOFFSETFROM:+0200
TZOFFSETTO:+0100
TZNAME:CET
DTSTART:20161030T010000
END:STANDARD
END:VTIMEZONE
BEGIN:VEVENT
DTSTART;TZID=Europe/Stockholm:20160423T123000
DTEND;TZID=Europe/Stockholm:20160423T170000
DTSTAMP:20260420T170441
CREATED:20160414T085340Z
LAST-MODIFIED:20160414T085340Z
UID:6730-1461414600-1461430800@arkiv.gratisuppsala.se
SUMMARY:Gatushower
DESCRIPTION:Gatushower på Uppsalas torg fredag-lördag 22-23 april. Gratis! \nMedverkar gör Dozzie\, en jättekanin med trollkarl i hatt\, Arkadia\, trollkarl och gycklare\, Anders Flanderz\, en fantastisk enmansmultiorkester och många fler.\nDu kan se dem på Forumtorget\, Celciustorget och på gågatan i city. \nHela programmet hittar du här.\nOBS\, förändringar kan förekomma. Vid regn kan plats ändras.\nBesök festivalsidan två dagar innan. Då är schemat spikat! \nEvenemangen ingår i festivalen Uppsala Magic & Comedy som pågår 19-24 april. \nBild: uppsalamagicandcomedy.se/artist/anders-flanderz/. \nDela evenemanget
URL:https://arkiv.gratisuppsala.se/event/gatushower-2/
LOCATION:Gågatan\, Forumtorget\, Celciustorget\, Forumtorget\, Uppsala\, 75320\, Sverige
CATEGORIES:Sång och Musik,Teater och Bio
ATTACH;FMTTYPE=image/jpeg:https://arkiv.gratisuppsala.se/wp-content/uploads/2016/04/AndersFlanderz.jpg
GEO:59.8581024;17.6402886
X-APPLE-STRUCTURED-LOCATION;VALUE=URI;X-ADDRESS=Gågatan Forumtorget Celciustorget Forumtorget Uppsala 75320 Sverige;X-APPLE-RADIUS=500;X-TITLE=Forumtorget:geo:17.6402886,59.8581024
END:VEVENT
END:VCALENDAR