BEGIN:VCALENDAR
VERSION:2.0
PRODID:-//Gratis Uppsala - ECPv5.2.1//NONSGML v1.0//EN
CALSCALE:GREGORIAN
METHOD:PUBLISH
X-WR-CALNAME:Gratis Uppsala
X-ORIGINAL-URL:https://arkiv.gratisuppsala.se
X-WR-CALDESC:Händelser för Gratis Uppsala
BEGIN:VTIMEZONE
TZID:Europe/Stockholm
BEGIN:DAYLIGHT
TZOFFSETFROM:+0100
TZOFFSETTO:+0200
TZNAME:CEST
DTSTART:20170326T010000
END:DAYLIGHT
BEGIN:STANDARD
TZOFFSETFROM:+0200
TZOFFSETTO:+0100
TZNAME:CET
DTSTART:20171029T010000
END:STANDARD
END:VTIMEZONE
BEGIN:VEVENT
DTSTART;TZID=Europe/Stockholm:20170429T120000
DTEND;TZID=Europe/Stockholm:20170322T170000
DTSTAMP:20260420T183836
CREATED:20170322T102601Z
LAST-MODIFIED:20170322T102601Z
UID:12719-1493467200-1490202000@arkiv.gratisuppsala.se
SUMMARY:Gatushower med Anders Flanderz
DESCRIPTION:Gatushower med Anders Flanderz på Celciustorget och Forumtorget. \nAnders Flanderz Ensamsorkester är Anders och ca 14 instrument som alla är igång mer eller mindre samtidigt. Med maxad energi\, musikalisk spontanitet och uppfinningsrikedom\, samt en stor glädje för att möta publiken här och nu dyker Anders Flanderz upp på gator och scener världen över. \nLördag 29 april kl 11 och 14 kan du se Gatushower på Celciustorget och Forumtorget. \nGratis! \nHela programmet för Uppsala Magic & Comedy hittar du här \nBild från uppsalamagicandcomedy.se. \nDela evenemanget
URL:https://arkiv.gratisuppsala.se/event/gatushower-med-anders-flanderz/2017-04-29/
LOCATION:Uppsala\, Stora Torget\, Uppsala\, 75320\, Sverige
ATTACH;FMTTYPE=image/jpeg:https://arkiv.gratisuppsala.se/wp-content/uploads/2016/04/AndersFlanderz.jpg
GEO:59.8583548;17.6396335
X-APPLE-STRUCTURED-LOCATION;VALUE=URI;X-ADDRESS=Uppsala Stora Torget Uppsala 75320 Sverige;X-APPLE-RADIUS=500;X-TITLE=Stora Torget:geo:17.6396335,59.8583548
END:VEVENT
END:VCALENDAR