BEGIN:VCALENDAR
VERSION:2.0
PRODID:-//Gratis Uppsala - ECPv5.2.1//NONSGML v1.0//EN
CALSCALE:GREGORIAN
METHOD:PUBLISH
X-WR-CALNAME:Gratis Uppsala
X-ORIGINAL-URL:https://arkiv.gratisuppsala.se
X-WR-CALDESC:Händelser för Gratis Uppsala
BEGIN:VTIMEZONE
TZID:Europe/Stockholm
BEGIN:DAYLIGHT
TZOFFSETFROM:+0100
TZOFFSETTO:+0200
TZNAME:CEST
DTSTART:20180325T010000
END:DAYLIGHT
BEGIN:STANDARD
TZOFFSETFROM:+0200
TZOFFSETTO:+0100
TZNAME:CET
DTSTART:20181028T010000
END:STANDARD
END:VTIMEZONE
BEGIN:VEVENT
DTSTART;TZID=Europe/Stockholm:20180430T120000
DTEND;TZID=Europe/Stockholm:20180430T170000
DTSTAMP:20260419T213122
CREATED:20180416T085929Z
LAST-MODIFIED:20180416T085929Z
UID:23551-1525089600-1525107600@arkiv.gratisuppsala.se
SUMMARY:Gatushower Valborg
DESCRIPTION:Gatushower Valborg\nValborg är något av Uppsalas nationaldag. Uppsalabor och inresta gäster bjuds på gratis shower där många rör sig\, i Uppsala City! \nEn av dagens artister är Abigail Collins. Abigail är den utbildade balettdansösen som vridit sin karriär åt en annorlunda riktning. Ofta är gatan hennes scen och hon har två gånger tilldelats Best Street Performer Award i Australien. Hon är född i London och har idag hela världen som sitt arbetsfält. \nArkadia har arbetat som underhållare i nästan hela sitt liv.  Vid 14 års ålder såg han en gatuartist i Covent Garden vilket förändrade hans liv.  Beväpnad med trolleri\, styltor och jonglering levereras shower du aldrig sett förr. Arkadia syns regelbundet på Sveriges största barnkanal\, på Lisebergs scener och på festivaler runt om i Sverige. \nVarietéartisten Caligari roar barn och vuxna med allt från barnprogram i TV till föreställningar på festivaler och kulturhus. Spänning och galna konststycken blandas när Caligari uppträder. Alltid med härlig publikkontakt. Hans shower innehåller jonglering\, magi och en stor del glädje. Caligari är en av medlemmarna i Magikergränd och har medverkat i ett väldigt uppskattat familjeprogram i TV nyligen. \nTid och plats\nMåndag 30 april \nKlockan 11.00 – 16.00 \nVälkommen till Celsiustorget! \nBild från: pixabay.com/ \nDela evenemanget
URL:https://arkiv.gratisuppsala.se/event/gatushower-valborg/
LOCATION:celsiustorget\, svartbäcksgatan 8\, UPPSALA\, 753 20\, Sverige
CATEGORIES:Dans,Familj,Valborg
ATTACH;FMTTYPE=image/jpeg:https://arkiv.gratisuppsala.se/wp-content/uploads/2017/05/galenfestivalen.jpg
GEO:59.8595205;17.6367462
X-APPLE-STRUCTURED-LOCATION;VALUE=URI;X-ADDRESS=celsiustorget svartbäcksgatan 8 UPPSALA 753 20 Sverige;X-APPLE-RADIUS=500;X-TITLE=svartbäcksgatan 8:geo:17.6367462,59.8595205
END:VEVENT
END:VCALENDAR