BEGIN:VCALENDAR
VERSION:2.0
PRODID:-//Gratis Uppsala - ECPv5.2.1//NONSGML v1.0//EN
CALSCALE:GREGORIAN
METHOD:PUBLISH
X-WR-CALNAME:Gratis Uppsala
X-ORIGINAL-URL:https://arkiv.gratisuppsala.se
X-WR-CALDESC:Händelser för Gratis Uppsala
BEGIN:VTIMEZONE
TZID:Europe/Stockholm
BEGIN:DAYLIGHT
TZOFFSETFROM:+0100
TZOFFSETTO:+0200
TZNAME:CEST
DTSTART:20160327T010000
END:DAYLIGHT
BEGIN:STANDARD
TZOFFSETFROM:+0200
TZOFFSETTO:+0100
TZNAME:CET
DTSTART:20161030T010000
END:STANDARD
END:VTIMEZONE
BEGIN:VEVENT
DTSTART;TZID=Europe/Stockholm:20160123T140000
DTEND;TZID=Europe/Stockholm:20160123T150000
DTSTAMP:20260419T233811
CREATED:20160105T092114Z
LAST-MODIFIED:20160105T092708Z
UID:5620-1453557600-1453561200@arkiv.gratisuppsala.se
SUMMARY:Geocaching event för nybörjare och proffs
DESCRIPTION:De berättar om geocaching och tipsar om några spännande gömmor att leta efter i närheten. Man lär känna andra geocachare!!! \nGeocaching Uppsala bjuder på fika/grillkorv. \nDet är tacksamt om ni skickar ett mail till: bjornolav@hotmail.se\, och berättar om ni har tänkt att dyka upp\, så de vet hur mycket korv de ska köpa…\nMen det går också fint att bara dyka upp! \nDela evenemanget
URL:https://arkiv.gratisuppsala.se/event/geocaching-event-for-nyborjare-och-proffs/
LOCATION:Gränby 4H-gård\, Norra Gränbyvägen 20\, Uppsala\, 75432\, Sverige
CATEGORIES:Föreläsning och Kurs,Sport & Motion,Utflykt / Picknick
ATTACH;FMTTYPE=image/jpeg:https://arkiv.gratisuppsala.se/wp-content/uploads/2016/01/Geocach.jpg
ORGANIZER;CN="Geocaching%20Uppsala":MAILTO:bjornolav@hotmail.se
GEO:59.8790432;17.6680899
X-APPLE-STRUCTURED-LOCATION;VALUE=URI;X-ADDRESS=Gränby 4H-gård Norra Gränbyvägen 20 Uppsala 75432 Sverige;X-APPLE-RADIUS=500;X-TITLE=Norra Gränbyvägen 20:geo:17.6680899,59.8790432
END:VEVENT
END:VCALENDAR