BEGIN:VCALENDAR
VERSION:2.0
PRODID:-//Gratis Uppsala - ECPv5.2.1//NONSGML v1.0//EN
CALSCALE:GREGORIAN
METHOD:PUBLISH
X-WR-CALNAME:Gratis Uppsala
X-ORIGINAL-URL:https://arkiv.gratisuppsala.se
X-WR-CALDESC:Händelser för Gratis Uppsala
BEGIN:VTIMEZONE
TZID:Europe/Stockholm
BEGIN:DAYLIGHT
TZOFFSETFROM:+0100
TZOFFSETTO:+0200
TZNAME:CEST
DTSTART:20160327T010000
END:DAYLIGHT
BEGIN:STANDARD
TZOFFSETFROM:+0200
TZOFFSETTO:+0100
TZNAME:CET
DTSTART:20161030T010000
END:STANDARD
END:VTIMEZONE
BEGIN:VEVENT
DTSTART;TZID=Europe/Stockholm:20160702T153000
DTEND;TZID=Europe/Stockholm:20160702T170000
DTSTAMP:20260420T064351
CREATED:20160628T114246Z
LAST-MODIFIED:20160628T114246Z
UID:7649-1467473400-1467478800@arkiv.gratisuppsala.se
SUMMARY:Geocaching i Hågadalen Nåsten
DESCRIPTION:Välkomna nybörjare och proffs till Hågadalen-Nåstens naturreservat!!!\nVI LETAR EFTER NÅGRA SPÄNNANDE GÖMMOR SOM FINNS I NÄROMRÅDET… \nKom och umgås lite i all enkelhet\, snacka geocaching\, gps:er\, phones\, appar mm mm …. \nVi hjälper dig naturligtvis gärna att komma igång om du är nybörjare!!\nVi berättar vad för aktiviteter som är på gång i sommar… \nPlats: Där det röda krysset är på kartan. \nDela evenemanget
URL:https://arkiv.gratisuppsala.se/event/geocaching-hagadalen-nasten/
CATEGORIES:Sport & Motion
ATTACH;FMTTYPE=image/jpeg:https://arkiv.gratisuppsala.se/wp-content/uploads/2016/06/GcHågaNåsten.jpg
ORGANIZER;CN="Geocaching%20Uppsala":MAILTO:bjornolav@hotmail.se
END:VEVENT
END:VCALENDAR