BEGIN:VCALENDAR
VERSION:2.0
PRODID:-//Gratis Uppsala - ECPv5.2.1//NONSGML v1.0//EN
CALSCALE:GREGORIAN
METHOD:PUBLISH
X-WR-CALNAME:Gratis Uppsala
X-ORIGINAL-URL:https://arkiv.gratisuppsala.se
X-WR-CALDESC:Händelser för Gratis Uppsala
BEGIN:VTIMEZONE
TZID:Europe/Stockholm
BEGIN:DAYLIGHT
TZOFFSETFROM:+0100
TZOFFSETTO:+0200
TZNAME:CEST
DTSTART:20180325T010000
END:DAYLIGHT
BEGIN:STANDARD
TZOFFSETFROM:+0200
TZOFFSETTO:+0100
TZNAME:CET
DTSTART:20181028T010000
END:STANDARD
END:VTIMEZONE
BEGIN:VEVENT
DTSTART;TZID=Europe/Stockholm:20180508T193000
DTEND;TZID=Europe/Stockholm:20180508T210000
DTSTAMP:20260420T202817
CREATED:20180507T065638Z
LAST-MODIFIED:20180507T065638Z
UID:24445-1525807800-1525813200@arkiv.gratisuppsala.se
SUMMARY:GMO på gott och ont
DESCRIPTION:GMO på gott och ont\nSerien GENvägen till kunskap går vidare med ett ämne som ofta väcker diskussion – GMO. Förkortningen står för Genmodifiering eller Genmanipulation\, beroende på vilken sida av debatten som man befinner sig. \n\nSom de två tidigare föreläsningarna i vår visat så har människor under tiotusentals år förändrat djur och växter. Vargen blev till ett hundratal hundraser\, alla med sina förtjänster och fel. Det berättade professor Kerstin Lindblad-Toh om i sin föreläsning. Därefter redogjorde professor Leif Andersson om hur vi tämjt både grisar\, hästar och kor. Allt detta har skett via konventionell husdjursavel. Men sedan en tid är det möjligt att ingripa mera direkt i arvsmassan. Via CRISPRCase9 tekniken kan man skriva om den genetiska koden utan att tillföra nytt DNA. Det förändrar vad som anses vara en GMO. \nVilka möjligheter och risker innebär dessa de allra senaste metoderna? Jens Sundström berättar. \nProf. Dan Larhammar inleder som vanligt föreläsningen med att kort beskriva genbegreppet. \nEfter föreläsningen blir det som vanligt tillfälle till frågor och diskussion. \n\nTid och plats\nTisdag 8 Maj\, klockan 18.30-20.00 \nHumanistiskateatern \nFöreläsare: Jens Sundström\, samverkanslektor\, SLU. Prof. Dan Larhammar\, Uppsala universitet. \n\nFri entré. \n\n(Bild från pixabay.com.) \nDela evenemanget
URL:https://arkiv.gratisuppsala.se/event/gmo-pa-gott-och-ont/
LOCATION:Humanistiska teatern\, Thunbergsvägen 3\, Uppsala\, 75238\, Sverige
CATEGORIES:Föreläsning och Kurs
ATTACH;FMTTYPE=image/jpeg:https://arkiv.gratisuppsala.se/wp-content/uploads/2018/05/dna-163466_640.jpg
GEO:59.8537819;17.6248169
X-APPLE-STRUCTURED-LOCATION;VALUE=URI;X-ADDRESS=Humanistiska teatern Thunbergsvägen 3 Uppsala 75238 Sverige;X-APPLE-RADIUS=500;X-TITLE=Thunbergsvägen 3:geo:17.6248169,59.8537819
END:VEVENT
END:VCALENDAR