BEGIN:VCALENDAR
VERSION:2.0
PRODID:-//Gratis Uppsala - ECPv5.2.1//NONSGML v1.0//EN
CALSCALE:GREGORIAN
METHOD:PUBLISH
X-WR-CALNAME:Gratis Uppsala
X-ORIGINAL-URL:https://arkiv.gratisuppsala.se
X-WR-CALDESC:Händelser för Gratis Uppsala
BEGIN:VTIMEZONE
TZID:Europe/Stockholm
BEGIN:DAYLIGHT
TZOFFSETFROM:+0100
TZOFFSETTO:+0200
TZNAME:CEST
DTSTART:20150329T010000
END:DAYLIGHT
BEGIN:STANDARD
TZOFFSETFROM:+0200
TZOFFSETTO:+0100
TZNAME:CET
DTSTART:20151025T010000
END:STANDARD
END:VTIMEZONE
BEGIN:VEVENT
DTSTART;TZID=Europe/Stockholm:20150908T074500
DTEND;TZID=Europe/Stockholm:20150908T100000
DTSTAMP:20260420T050531
CREATED:20150623T082056Z
LAST-MODIFIED:20150906T163326Z
UID:2662-1441698300-1441706400@arkiv.gratisuppsala.se
SUMMARY:God Morgon Sverige - gratis frukostmöte för näringslivet (Enköping)
DESCRIPTION:Gratis frukostmötet för näringslivet där alla är välkomna. Den 8 september är det frukostmöte på Kompassen i Enköping. \nObs! Alltid obligatorisk föranmälan på www.godmorgonsverige.se \n  \n  \n  \nDela evenemanget
URL:https://arkiv.gratisuppsala.se/event/godmorgonsverige/
LOCATION:Enköping\, Kompassen\, Kaptensgatan 4
ATTACH;FMTTYPE=image/jpeg:https://arkiv.gratisuppsala.se/wp-content/uploads/2015/06/Frukostmöte.jpg
GEO:55.475975;14.2818529
X-APPLE-STRUCTURED-LOCATION;VALUE=URI;X-ADDRESS=Enköping Kompassen Kaptensgatan 4;X-APPLE-RADIUS=500;X-TITLE=Kaptensgatan 4:geo:14.2818529,55.475975
END:VEVENT
END:VCALENDAR