BEGIN:VCALENDAR
VERSION:2.0
PRODID:-//Gratis Uppsala - ECPv5.2.1//NONSGML v1.0//EN
CALSCALE:GREGORIAN
METHOD:PUBLISH
X-WR-CALNAME:Gratis Uppsala
X-ORIGINAL-URL:https://arkiv.gratisuppsala.se
X-WR-CALDESC:Händelser för Gratis Uppsala
BEGIN:VTIMEZONE
TZID:Europe/Stockholm
BEGIN:DAYLIGHT
TZOFFSETFROM:+0100
TZOFFSETTO:+0200
TZNAME:CEST
DTSTART:20160327T010000
END:DAYLIGHT
BEGIN:STANDARD
TZOFFSETFROM:+0200
TZOFFSETTO:+0100
TZNAME:CET
DTSTART:20161030T010000
END:STANDARD
END:VTIMEZONE
BEGIN:VEVENT
DTSTART;TZID=Europe/Stockholm:20160423T123000
DTEND;TZID=Europe/Stockholm:20160423T160000
DTSTAMP:20260420T153330
CREATED:20160419T063137Z
LAST-MODIFIED:20160419T063137Z
UID:6775-1461414600-1461427200@arkiv.gratisuppsala.se
SUMMARY:Gottsunda Matfestival
DESCRIPTION:Gottsunda Matfestival lördag 23 april kl 11.30-15. \nDet kommer att dukas upp med kulinariska upplevelser från jordens alla hörn centrumet. Kom förbi och låt dig inspireras av spännande smaker\, härliga dofter och aptitretande råvaror – kanske hittar du en ny favorit att köpa med hem till det egna köket? \nHela programmet hittar du här. \nBild: gottsundacentrum.se. \nDela evenemanget
URL:https://arkiv.gratisuppsala.se/event/gottsunda-matfestival/
LOCATION:Gottsunda Centrum\, Valthornsvägen 11 \, Uppsala\, 75025 \, Sverige
CATEGORIES:Marknad & Loppis,Workshop
ATTACH;FMTTYPE=image/jpeg:https://arkiv.gratisuppsala.se/wp-content/uploads/2016/04/gottsunda_matfestival.jpg
END:VEVENT
END:VCALENDAR