BEGIN:VCALENDAR
VERSION:2.0
PRODID:-//Gratis Uppsala - ECPv5.2.1//NONSGML v1.0//EN
CALSCALE:GREGORIAN
METHOD:PUBLISH
X-WR-CALNAME:Gratis Uppsala
X-ORIGINAL-URL:https://arkiv.gratisuppsala.se
X-WR-CALDESC:Händelser för Gratis Uppsala
BEGIN:VTIMEZONE
TZID:Europe/Stockholm
BEGIN:DAYLIGHT
TZOFFSETFROM:+0100
TZOFFSETTO:+0200
TZNAME:CEST
DTSTART:20200329T010000
END:DAYLIGHT
BEGIN:STANDARD
TZOFFSETFROM:+0200
TZOFFSETTO:+0100
TZNAME:CET
DTSTART:20201025T010000
END:STANDARD
END:VTIMEZONE
BEGIN:VEVENT
DTSTART;TZID=Europe/Stockholm:20200217T100000
DTEND;TZID=Europe/Stockholm:20200217T140000
DTSTAMP:20260420T151708
CREATED:20200211T191139Z
LAST-MODIFIED:20200211T191139Z
UID:41632-1581933600-1581948000@arkiv.gratisuppsala.se
SUMMARY:Allmän åkning i Gränby ishallar under Sportlovet 2020
DESCRIPTION:Allmän åkning i Gränby ishallar under Sportlovet 2020\nAllmän åkning på sportlovet är ett perfekt tillfälle att snöra på sig sina skridskor och spela lite hockey med kompisgänget\, eller varför inte bara glida om kring och göra piruetter. Under sportlovet har Gränby ishallar extra öppet för allmänheten och det är gratis! \nDatum: Måndagen den 17 februari – söndagen den 23 februari 2020\nPlats: Gränby ishallar\nTid: Varierar beroende på ishall. Se nedan.\nÅlder: För alla åldrar\nPris: Gratis \n  \n\nÖppettider och regler\nÖppettider B-hallen \nUnder sportlovsveckan 2020 gäller följande tider för allmänhetens åkning i Gränby ishallars B-hall. \nMåndag: 10.00 – 14.00\nTisdag: 10.00 – 14.00\nOnsdag: 10.00 – 14.00\nTorsdag: 10.00 – 14.00\nFredag: 10.00 – 14.00\nLördag: 18.00 – 20.00 \nRegler: Klubba och puck/boll är tillåtet. \nÖppettider C-hallen \nUnder sportlovsveckan  gäller följande tider för allmänhetens åkning i Gränby ishallars C-hall. \nMåndag: 10.00 – 14.00\nTisdag: 10.00 – 14.00\nOnsdag: 10.00 – 14.00\nTorsdag: 10.00 – 14.00\nFredag: 10.00 – 14.00\nLördag: 18.00 – 20.00 \nRegler: Endast skridskoåkning\, klubba och puck/boll är ej tillåtet. \n\nÖppettider Relitahallen \n\n\nUnder sportlovsveckan gäller följande tider för allmänhetens åkning i Relitahallen. \nMåndag: Stängt\nTisdag: 9.00 – 15.00\nOnsdag: 9.00 – 15.00\nTorsdag: 9.00 – 15.00\nFredag: 11.00 – 15.00\nLördag: 10.00 – 20.00\nSöndag: 9.00 – 12.00 \nRegler: Klubba och puck/boll är tillåtet. Vid spel med klubba och boll ska barn använda hjälm med galler eller visir. Endast spel med boll är tillåtet\, puckar är förbjudna då de har sönder sargen. \n  \n\n\nBesök gärna länkarna nedan (externa länkar öppnas i ett nytt fönster/flik).\nGränby Ishallar | Kommande event inom sport & motion |  Kommande event under sportlovet 2020  \nFoto: Pixabay \nDela evenemanget
URL:https://arkiv.gratisuppsala.se/event/granby-ishallar-sportlov-2020/2020-02-17/
LOCATION:Gränby ishall\, Råbyvägen 71\, Uppsala\, 754 30\, Sverige
CATEGORIES:Ålderskategori,Anmälan / Kostnad,Barn,Eventkategori,Familj,Geografisk kategori,Gränby,Gratis,Ingen föranmälan,Skollov,Sport & Motion,Sportlov,Ungdom,Uppsala,Uppsala Kommun,Vuxen
ATTACH;FMTTYPE=image/jpeg:https://arkiv.gratisuppsala.se/wp-content/uploads/2020/02/ice-hockey-1982190_960_720.jpg
GEO:59.8802357;17.6565891
X-APPLE-STRUCTURED-LOCATION;VALUE=URI;X-ADDRESS=Gränby ishall Råbyvägen 71 Uppsala 754 30 Sverige;X-APPLE-RADIUS=500;X-TITLE=Råbyvägen 71:geo:17.6565891,59.8802357
END:VEVENT
END:VCALENDAR