BEGIN:VCALENDAR
VERSION:2.0
PRODID:-//Gratis Uppsala - ECPv5.2.1//NONSGML v1.0//EN
CALSCALE:GREGORIAN
METHOD:PUBLISH
X-WR-CALNAME:Gratis Uppsala
X-ORIGINAL-URL:https://arkiv.gratisuppsala.se
X-WR-CALDESC:Händelser för Gratis Uppsala
BEGIN:VTIMEZONE
TZID:Europe/Stockholm
BEGIN:DAYLIGHT
TZOFFSETFROM:+0100
TZOFFSETTO:+0200
TZNAME:CEST
DTSTART:20200329T010000
END:DAYLIGHT
BEGIN:STANDARD
TZOFFSETFROM:+0200
TZOFFSETTO:+0100
TZNAME:CET
DTSTART:20201025T010000
END:STANDARD
END:VTIMEZONE
BEGIN:VEVENT
DTSTART;TZID=Europe/Stockholm:20200222T100000
DTEND;TZID=Europe/Stockholm:20200222T150000
DTSTAMP:20260420T195711
CREATED:20200206T125139Z
LAST-MODIFIED:20200207T095244Z
UID:41625-1582365600-1582383600@arkiv.gratisuppsala.se
SUMMARY:Gränby Smash 2020 | Gränbystaden
DESCRIPTION:Gränby Smash 2020 | Gränbystaden\nGränby smash –  Återigen bjuder Gränbystaden in till pingisfest. Var med och tävla om att bli Uppsalas bästa pingislag i Rundpingisturneringen som äger rum i Gränby köpcentrum. Alla är välkomna att tävla. \nUnder hela sportlovsveckan i februari är du välkommen att smasha\, serva och skruva dig i form! Det är helt gratis att komma och öva med dina kompisar. Det kommer även att finnas möjlighet att träna med en pingistränare från BTK för att vässa formen inför helgens stora rundpingisturnering. I prispotten finns Gränbystadens presentkort laddat med 4000 kr till vinnande lag. Det kommer även att delas ut pris till bästa lagnamn och bästa laganda. \nPassa på att ta ett supersnyggt lagfoto på plats och ta chansen att bli Uppsalas bästa rundpingislag. Stora som små\, bollen är lika rund för alla. \nDatum: Lördagen den 22 februari 2020\nTid: 10:00-15:00\nPlats: Gränby köpcentrum\, Östra entrén\, plan 1 (mittemot Starbucks)\nÅlder: Passar alla\nPris: Gratis\nAnmälan: Anmäl dig på Gränbystadens eventsida genom att skriva ett inlägg med följande info: \n♦️ Ett schysst lagnamn\n♦️ Namn på lagmedlemmar\n♦️ Emailadress och telefonnummer till er som vill delta eller ansvarig vuxen. \nSista anmälan: Fredagen den 21 februari 2020 \n  \n\nTräningstider\nÖppettider för dig som vill smasha\, serva och skruva dig i form: \nMåndag – Söndag: 10:00-20:00 \nTräning med pingistränare från BTK: \nOnsdag: 15:00 – 17:00\nTorsdag: 15:00 – 17:00 \n\nOm Gränbystaden\nGränbystaden ägs\, utvecklas och drivs av Atrium Ljungberg. Deras vision är att utveckla köpcentrumet Gränby Centrum till Gränbystaden – Uppsalas andra stadskärna. De vill skapa en plats där människor trivs\, där de vill träffas och handla\, äta och uppleva saker. \n  \n\nBesök gärna länkarna nedan (externa länkar öppnas i ett nytt fönster/flik).\nRundpingis turnering på Gränby köpcentrum | Kommande event på Sportlovet \nBild: Gränbystaden \nDela evenemanget
URL:https://arkiv.gratisuppsala.se/event/granby-smash-2020-granbystaden/
LOCATION:Gränbystaden\, Marknadsgatan 1\, \, Uppsala\, 754 60 \, Sverige
CATEGORIES:60+,Ålderskategori,Anmälan,Anmälan / Kostnad,Årliga event,Barn,Eventkategori,Familj,För föräldrar,Geografisk kategori,Gränby,Gratis,Skollov,Spel & tävling,Sport & Motion,Sportlov,Ungdom,Uppsala,Uppsala Kommun,Vuxen
ATTACH;FMTTYPE=image/jpeg:https://arkiv.gratisuppsala.se/wp-content/uploads/2020/02/84112381_2637890282926904_9062335008345161728_o.jpg
GEO:59.8772243;17.6742898
X-APPLE-STRUCTURED-LOCATION;VALUE=URI;X-ADDRESS=Gränbystaden Marknadsgatan 1  Uppsala 754 60  Sverige;X-APPLE-RADIUS=500;X-TITLE=Marknadsgatan 1\,:geo:17.6742898,59.8772243
END:VEVENT
END:VCALENDAR