BEGIN:VCALENDAR
VERSION:2.0
PRODID:-//Gratis Uppsala - ECPv5.2.1//NONSGML v1.0//EN
CALSCALE:GREGORIAN
METHOD:PUBLISH
X-WR-CALNAME:Gratis Uppsala
X-ORIGINAL-URL:https://arkiv.gratisuppsala.se
X-WR-CALDESC:Händelser för Gratis Uppsala
BEGIN:VTIMEZONE
TZID:Europe/Stockholm
BEGIN:DAYLIGHT
TZOFFSETFROM:+0100
TZOFFSETTO:+0200
TZNAME:CEST
DTSTART:20160327T010000
END:DAYLIGHT
BEGIN:STANDARD
TZOFFSETFROM:+0200
TZOFFSETTO:+0100
TZNAME:CET
DTSTART:20161030T010000
END:STANDARD
END:VTIMEZONE
BEGIN:VEVENT
DTSTART;VALUE=DATE:20160702
DTEND;VALUE=DATE:20160704
DTSTAMP:20260420T081903
CREATED:20160523T074443Z
LAST-MODIFIED:20160523T074443Z
UID:7057-1467421200-1467507599@arkiv.gratisuppsala.se
SUMMARY:Gräsö runt och Gräsödagen
DESCRIPTION:Gräsö runt och Gräsödagen\nGräsödagen arrangeras varje år i samband med den återkommande och mycket populära skötbåtstävlingen Gräsö runt. Där de tuffa deltagarna under två dagar ror eller seglar runt Gräsö i traditionella skötbåtar. Gräsö runt startar den 1 juli.\nSjälva Gräsödagen firas med målgång\, prisutdelning samt olika aktiviteter. Dessutom ställer olika företag och föreningar med anknytning till Gräsön ut sina produkter\, hantverk m.m. Här finns även gott att äta\, och spelmän som spelar folkmusik. Allt för en trevlig och genuin samvaro på Gräsö skolans skolgård. Gräsödagen äger rum den 2 juli. \n  \nDela evenemanget
URL:https://arkiv.gratisuppsala.se/event/graso-runt-och-grasodagen/
CATEGORIES:60+,Marknad & Loppis,Utflykt / Picknick,Utställning
ORGANIZER;CN="Gr%C3%A4s%C3%B6%20turism":MAILTO:info@grasoturism.se
END:VEVENT
END:VCALENDAR