BEGIN:VCALENDAR
VERSION:2.0
PRODID:-//Gratis Uppsala - ECPv5.2.1//NONSGML v1.0//EN
CALSCALE:GREGORIAN
METHOD:PUBLISH
X-WR-CALNAME:Gratis Uppsala
X-ORIGINAL-URL:https://arkiv.gratisuppsala.se
X-WR-CALDESC:Händelser för Gratis Uppsala
BEGIN:VTIMEZONE
TZID:Europe/Stockholm
BEGIN:DAYLIGHT
TZOFFSETFROM:+0100
TZOFFSETTO:+0200
TZNAME:CEST
DTSTART:20160327T010000
END:DAYLIGHT
BEGIN:STANDARD
TZOFFSETFROM:+0200
TZOFFSETTO:+0100
TZNAME:CET
DTSTART:20161030T010000
END:STANDARD
END:VTIMEZONE
BEGIN:VEVENT
DTSTART;TZID=Europe/Stockholm:20160426T190000
DTEND;TZID=Europe/Stockholm:20160426T203000
DTSTAMP:20260420T034303
CREATED:20160121T125842Z
LAST-MODIFIED:20160121T125842Z
UID:5850-1461697200-1461702600@arkiv.gratisuppsala.se
SUMMARY:Gratis juridisk rådgivning
DESCRIPTION:Du som behöver juridisk rådgivning har möjlighet att få det helt gratis på Stadsbiblioteket i Uppsala av juristen Jihad Omeirat. \nDet finns tid för sex personer per tillfälle. Nummerlapp hämtas i receptionen från klockan 9 samma dag som rådgivningen är. Max 15 minuter rådgivning per person. \nRådgivningen kan ges på svenska\, engelska och arabiska. \nLokal: Släktforskarrummet \nDela evenemanget
URL:https://arkiv.gratisuppsala.se/event/gratis-juridisk-radgivning-6/
LOCATION:Stadsbiblioteket\, Svartbäcksgatan 17
ATTACH;FMTTYPE=image/jpeg:https://arkiv.gratisuppsala.se/wp-content/uploads/2016/01/Lagbok.jpg
ORGANIZER;CN="Bibliotek%20Uppsala":MAILTO:kundtjanst@bibliotekuppsala.se
GEO:59.8606206;17.6353278
X-APPLE-STRUCTURED-LOCATION;VALUE=URI;X-ADDRESS=Stadsbiblioteket Svartbäcksgatan 17;X-APPLE-RADIUS=500;X-TITLE=Svartbäcksgatan 17:geo:17.6353278,59.8606206
END:VEVENT
END:VCALENDAR