BEGIN:VCALENDAR
VERSION:2.0
PRODID:-//Gratis Uppsala - ECPv5.2.1//NONSGML v1.0//EN
CALSCALE:GREGORIAN
METHOD:PUBLISH
X-WR-CALNAME:Gratis Uppsala
X-ORIGINAL-URL:https://arkiv.gratisuppsala.se
X-WR-CALDESC:Händelser för Gratis Uppsala
BEGIN:VTIMEZONE
TZID:Europe/Stockholm
BEGIN:DAYLIGHT
TZOFFSETFROM:+0100
TZOFFSETTO:+0200
TZNAME:CEST
DTSTART:20150329T010000
END:DAYLIGHT
BEGIN:STANDARD
TZOFFSETFROM:+0200
TZOFFSETTO:+0100
TZNAME:CET
DTSTART:20151025T010000
END:STANDARD
END:VTIMEZONE
BEGIN:VEVENT
DTSTART;TZID=Europe/Stockholm:20150929T190000
DTEND;TZID=Europe/Stockholm:20150923T180000
DTSTAMP:20260420T093145
CREATED:20150923T112320Z
LAST-MODIFIED:20150923T112320Z
UID:3904-1443553200-1443031200@arkiv.gratisuppsala.se
SUMMARY:Gratis juridisk rådgivning
DESCRIPTION:Du som behöver juridisk rådgivning har möjlighet att få det helt gratis på Stadsbiblioteket i Uppsala av juristen Jihad Omeirat. \nDu behöver inte boka tid för rådgivningen\, det är drop in\, max 15 minuter rådgivning per person. \nRådgivningen kan ges på svenska\, engelska och arabiska. \nDela evenemanget
URL:https://arkiv.gratisuppsala.se/event/gratis-juridisk-radgivning/
LOCATION:Stadsbiblioteket\, Svartbäcksgatan 17
GEO:59.8606206;17.6353278
X-APPLE-STRUCTURED-LOCATION;VALUE=URI;X-ADDRESS=Stadsbiblioteket Svartbäcksgatan 17;X-APPLE-RADIUS=500;X-TITLE=Svartbäcksgatan 17:geo:17.6353278,59.8606206
END:VEVENT
END:VCALENDAR