BEGIN:VCALENDAR
VERSION:2.0
PRODID:-//Gratis Uppsala - ECPv5.2.1//NONSGML v1.0//EN
CALSCALE:GREGORIAN
METHOD:PUBLISH
X-WR-CALNAME:Gratis Uppsala
X-ORIGINAL-URL:https://arkiv.gratisuppsala.se
X-WR-CALDESC:Händelser för Gratis Uppsala
BEGIN:VTIMEZONE
TZID:Europe/Stockholm
BEGIN:DAYLIGHT
TZOFFSETFROM:+0100
TZOFFSETTO:+0200
TZNAME:CEST
DTSTART:20150329T010000
END:DAYLIGHT
BEGIN:STANDARD
TZOFFSETFROM:+0200
TZOFFSETTO:+0100
TZNAME:CET
DTSTART:20151025T010000
END:STANDARD
END:VTIMEZONE
BEGIN:VEVENT
DTSTART;TZID=Europe/Stockholm:20151024T160000
DTEND;TZID=Europe/Stockholm:20151024T170000
DTSTAMP:20260419T201134
CREATED:20151005T074808Z
LAST-MODIFIED:20151019T072035Z
UID:4030-1445702400-1445706000@arkiv.gratisuppsala.se
SUMMARY:Lördagsmusik i Domkyrkan
DESCRIPTION:Gratiskonsert i Domkyrkan med Uppsala katedralsångare\nVeckans Lördagsmusik står Uppsala katedralsångare för. De framför engelsk körmusik av bl a Dove\, Tippett\, Elgar\, Mealor m fl. \nDirigent Ulric Andersson. \nSätt guldkant på tillvaron med en kortare konsert med fritt inträde. \nLördag 24 oktober kl 15.00 i Domkyrkan \nKonserten ges i samarbete med studieförbundet Sensus. \n  \nDela evenemanget
URL:https://arkiv.gratisuppsala.se/event/gratiskonsert-i-domkyrkan-2/
LOCATION:Uppsala domkyrka\, Domkyrkoplan 5\, Uppsala\, 75310\, Sverige
CATEGORIES:Sång och Musik
ATTACH;FMTTYPE=image/jpeg:https://arkiv.gratisuppsala.se/wp-content/uploads/2015/06/IMG_2333_2-e1439197523418.jpg
GEO:59.8584471;17.6332992
X-APPLE-STRUCTURED-LOCATION;VALUE=URI;X-ADDRESS=Uppsala domkyrka Domkyrkoplan 5 Uppsala 75310 Sverige;X-APPLE-RADIUS=500;X-TITLE=Domkyrkoplan 5:geo:17.6332992,59.8584471
END:VEVENT
END:VCALENDAR