BEGIN:VCALENDAR
VERSION:2.0
PRODID:-//Gratis Uppsala - ECPv5.2.1//NONSGML v1.0//EN
CALSCALE:GREGORIAN
METHOD:PUBLISH
X-WR-CALNAME:Gratis Uppsala
X-ORIGINAL-URL:https://arkiv.gratisuppsala.se
X-WR-CALDESC:Händelser för Gratis Uppsala
BEGIN:VTIMEZONE
TZID:Europe/Stockholm
BEGIN:DAYLIGHT
TZOFFSETFROM:+0100
TZOFFSETTO:+0200
TZNAME:CEST
DTSTART:20160327T010000
END:DAYLIGHT
BEGIN:STANDARD
TZOFFSETFROM:+0200
TZOFFSETTO:+0100
TZNAME:CET
DTSTART:20161030T010000
END:STANDARD
END:VTIMEZONE
BEGIN:VEVENT
DTSTART;TZID=Europe/Stockholm:20161222T110000
DTEND;TZID=Europe/Stockholm:20161222T130000
DTSTAMP:20260420T194605
CREATED:20161220T095229Z
LAST-MODIFIED:20161220T095229Z
UID:9930-1482404400-1482411600@arkiv.gratisuppsala.se
SUMMARY:Guida visning av Peter
DESCRIPTION:Teater Stjärnskott från Omnia Daglig verksamhet ställer ut rekvisita och kostym från sin uppsättning av Peter Pan. \nPå den guidade visningen får du följa berättelsen om gatubarnet Peter i den stora staden och medlemmar från Teater Stjärnskott berättar även om hur det är att arbeta på en teater. \n\n\n\n\n\n\n\n\n\nPlats: Enköpings museum\, Rådhusgatan 3\, Enköping\nPris: gratis\n\n\n\n\n\n\n\n\n\nBokning via museum@enköping.se eller 0171-62 54 00. Max 10 personer per grupp. Passar alla åldrar från 5 år. Välkomna! \n Enköpings museum och teater Stjärnskott inom Omnia daglig verksamhet \n\n\n\n\n\n\n\n\nKontakt: 0171-625400\n\n\n\n Dela evenemanget
URL:https://arkiv.gratisuppsala.se/event/guida-visning-av-peter/
LOCATION:Rådhusgatan 3\, Enköping\, Sverige
CATEGORIES:Litteratur och Poesi
ATTACH;FMTTYPE=image/jpeg:https://arkiv.gratisuppsala.se/wp-content/uploads/2016/12/peterpanweb.jpg
GEO:59.6362811;17.0794788
X-APPLE-STRUCTURED-LOCATION;VALUE=URI;X-ADDRESS=Rådhusgatan 3 Enköping Sverige;X-APPLE-RADIUS=500;X-TITLE=Rådhusgatan 3:geo:17.0794788,59.6362811
END:VEVENT
END:VCALENDAR