BEGIN:VCALENDAR
VERSION:2.0
PRODID:-//Gratis Uppsala - ECPv5.2.1//NONSGML v1.0//EN
CALSCALE:GREGORIAN
METHOD:PUBLISH
X-WR-CALNAME:Gratis Uppsala
X-ORIGINAL-URL:https://arkiv.gratisuppsala.se
X-WR-CALDESC:Händelser för Gratis Uppsala
BEGIN:VTIMEZONE
TZID:Europe/Stockholm
BEGIN:DAYLIGHT
TZOFFSETFROM:+0100
TZOFFSETTO:+0200
TZNAME:CEST
DTSTART:20160327T010000
END:DAYLIGHT
BEGIN:STANDARD
TZOFFSETFROM:+0200
TZOFFSETTO:+0100
TZNAME:CET
DTSTART:20161030T010000
END:STANDARD
END:VTIMEZONE
BEGIN:VEVENT
DTSTART;TZID=Europe/Stockholm:20160102T123000
DTEND;TZID=Europe/Stockholm:20160102T123000
DTSTAMP:20260421T004639
CREATED:20151221T134528Z
LAST-MODIFIED:20151221T134723Z
UID:5320-1451737800-1451737800@arkiv.gratisuppsala.se
SUMMARY:Guided tour in English of Uppsala Cathedral
DESCRIPTION:Enjoy a guided tour in Uppsala Cathedral during the holidays. \nInformation for visitors \nThe cathedral is open every day from 8 am until 6 pm. On 30 April and on Midsummer’s eve 20 June from 8 am until 12 noon. When services\, concerts or other activities are going on\, admission may be restricted. \nOn the Swedish start page www.uppsaladomkyrka.se there is a calendar on the right-hand side\, in Swedish. Choose a date to see what is happening in the cathedral. “Visning” means “Guided tour”. For the most accurate information about events\, call the Cathedral Gift Shop on +46 18 430 36 30. \nAdmission is free but groups with their own guide giving a tour pay a 400 SEK viewing fee. This does not apply to school groups with their own guide. The fee is paid in the cathedral shop or the ticket machine. If the shop is closed payment or vouchers can be placed in the collection box inside the left door. \nA brochure in twelve languages is available and costs 10 SEK. \nDela evenemanget
URL:https://arkiv.gratisuppsala.se/event/guided-tours-english-uppsala-cathedral/
LOCATION:Uppsala domkyrka\, Domkyrkoplan 5\, Uppsala\, 75310\, Sverige
CATEGORIES:Utställning
ATTACH;FMTTYPE=image/jpeg:https://arkiv.gratisuppsala.se/wp-content/uploads/2015/06/IMG_2333_2-e1439197523418.jpg
GEO:59.8584471;17.6332992
X-APPLE-STRUCTURED-LOCATION;VALUE=URI;X-ADDRESS=Uppsala domkyrka Domkyrkoplan 5 Uppsala 75310 Sverige;X-APPLE-RADIUS=500;X-TITLE=Domkyrkoplan 5:geo:17.6332992,59.8584471
END:VEVENT
END:VCALENDAR