BEGIN:VCALENDAR
VERSION:2.0
PRODID:-//Gratis Uppsala - ECPv5.2.1//NONSGML v1.0//EN
CALSCALE:GREGORIAN
METHOD:PUBLISH
X-WR-CALNAME:Gratis Uppsala
X-ORIGINAL-URL:https://arkiv.gratisuppsala.se
X-WR-CALDESC:Händelser för Gratis Uppsala
BEGIN:VTIMEZONE
TZID:Europe/Stockholm
BEGIN:DAYLIGHT
TZOFFSETFROM:+0100
TZOFFSETTO:+0200
TZNAME:CEST
DTSTART:20170326T010000
END:DAYLIGHT
BEGIN:STANDARD
TZOFFSETFROM:+0200
TZOFFSETTO:+0100
TZNAME:CET
DTSTART:20171029T010000
END:STANDARD
END:VTIMEZONE
BEGIN:VEVENT
DTSTART;TZID=Europe/Stockholm:20171007T130000
DTEND;TZID=Europe/Stockholm:20171007T130000
DTSTAMP:20260419T191027
CREATED:20171002T122936Z
LAST-MODIFIED:20171002T122936Z
UID:18847-1507381200-1507381200@arkiv.gratisuppsala.se
SUMMARY:Guldlock och de tre björnarna
DESCRIPTION:Gratis dockteater på Brantingsbiblioteket\nTeater Tummeliten spelar Guldlock och de tre björnarna för barn mellan tre och sex år. \n\n\n\nBiljetter delas ut en vecka i förväg. \nBegränsat antal platser. \nTid och plats\nLördag 7 oktober kl. 12.00\nBrantingsbiblioteket \nBild från commons.wikimedia.org \n\n Dela evenemanget
URL:https://arkiv.gratisuppsala.se/event/guldlock-och-de-tre-bjornarna/
LOCATION:Brantingsbiblioteket\, Brantingstorg 5\, Uppsala\, 754 34\, Sverige
CATEGORIES:Litteratur och Poesi
ATTACH;FMTTYPE=image/jpeg:https://arkiv.gratisuppsala.se/wp-content/uploads/2017/10/The_Three_Bears_-_Project_Gutenberg_eText_17034-e1506950897139.jpg
ORGANIZER;CN="Bibliotek%20Uppsala":MAILTO:kundtjanst@bibliotekuppsala.se
GEO:59.8685048;17.6708287
X-APPLE-STRUCTURED-LOCATION;VALUE=URI;X-ADDRESS=Brantingsbiblioteket Brantingstorg 5 Uppsala 754 34 Sverige;X-APPLE-RADIUS=500;X-TITLE=Brantingstorg 5:geo:17.6708287,59.8685048
END:VEVENT
END:VCALENDAR