BEGIN:VCALENDAR
VERSION:2.0
PRODID:-//Gratis Uppsala - ECPv5.2.1//NONSGML v1.0//EN
CALSCALE:GREGORIAN
METHOD:PUBLISH
X-WR-CALNAME:Gratis Uppsala
X-ORIGINAL-URL:https://arkiv.gratisuppsala.se
X-WR-CALDESC:Händelser för Gratis Uppsala
BEGIN:VTIMEZONE
TZID:Europe/Stockholm
BEGIN:DAYLIGHT
TZOFFSETFROM:+0100
TZOFFSETTO:+0200
TZNAME:CEST
DTSTART:20170326T010000
END:DAYLIGHT
BEGIN:STANDARD
TZOFFSETFROM:+0200
TZOFFSETTO:+0100
TZNAME:CET
DTSTART:20171029T010000
END:STANDARD
END:VTIMEZONE
BEGIN:VEVENT
DTSTART;TZID=Europe/Stockholm:20171209T110000
DTEND;TZID=Europe/Stockholm:20171209T170000
DTSTAMP:20260419T190333
CREATED:20171128T115348Z
LAST-MODIFIED:20171128T115348Z
UID:20826-1512817200-1512838800@arkiv.gratisuppsala.se
SUMMARY:HÅGABY JULMARKNAD
DESCRIPTION:HÅGABY JULMARKNAD\nKulturoasen välkomnar till julmarknad i dagarna två. Cirka 40 utställare\, julmusik\, tomte\, luciatåg och mycket annat. Ponnyridning\, kafé\, servering\, korv med bröd\, fiskdamm\, hantverk\, antikt\, silversmide\, textil\, julgodis\, hembakt\, barnkläder\, tovat\, smycken\, ullprodukter\, glas\, kransar\, halmprodukter\, sylt\, saft\, ljus\, leksaker\, väskor\, glögg med mera. \nJulmarknad både inomhus och utomhus på torget. I serveringen serveras vegetarisk julsoppa och enklare salladsbuffé\, smörgåsar\, fikabröd\, kaffe\, te med mera. Veganska alternativ finns. På torget grillar vi vegokorv och vegoburgare. \nFri parkering. Buss nr 2 till Hågaby (sista hållplatsen). \nLördagen den 9 december och söndagen den 10 december\n\n\nPlats: Kulturoasen\n\n\n\nÖppettider: 11:00 – 17:00 \nBild från Pixabay.com \n\n\n\n Dela evenemanget
URL:https://arkiv.gratisuppsala.se/event/hagaby-julmarknad-3/2017-12-09/
LOCATION:Kulturoasen\, Hågavägen 190\, Uppsala
CATEGORIES:Marknad & Loppis,Slöjd och Hantverk
ATTACH;FMTTYPE=image/jpeg:https://arkiv.gratisuppsala.se/wp-content/uploads/2017/11/christmas-market-2948673_640.jpg
ORGANIZER;CN="Kulturoasen":MAILTO:kent@kulturhjaltarna.se
GEO:59.8381745;17.5761698
X-APPLE-STRUCTURED-LOCATION;VALUE=URI;X-ADDRESS=Kulturoasen Hågavägen 190 Uppsala;X-APPLE-RADIUS=500;X-TITLE=Hågavägen 190:geo:17.5761698,59.8381745
END:VEVENT
END:VCALENDAR