BEGIN:VCALENDAR
VERSION:2.0
PRODID:-//Gratis Uppsala - ECPv5.2.1//NONSGML v1.0//EN
CALSCALE:GREGORIAN
METHOD:PUBLISH
X-WR-CALNAME:Gratis Uppsala
X-ORIGINAL-URL:https://arkiv.gratisuppsala.se
X-WR-CALDESC:Händelser för Gratis Uppsala
BEGIN:VTIMEZONE
TZID:Europe/Stockholm
BEGIN:DAYLIGHT
TZOFFSETFROM:+0100
TZOFFSETTO:+0200
TZNAME:CEST
DTSTART:20150329T010000
END:DAYLIGHT
BEGIN:STANDARD
TZOFFSETFROM:+0200
TZOFFSETTO:+0100
TZNAME:CET
DTSTART:20151025T010000
END:STANDARD
END:VTIMEZONE
BEGIN:VEVENT
DTSTART;TZID=Europe/Stockholm:20151212T110000
DTEND;TZID=Europe/Stockholm:20151212T170000
DTSTAMP:20260419T185601
CREATED:20151206T081117Z
LAST-MODIFIED:20151206T081117Z
UID:5083-1449918000-1449939600@arkiv.gratisuppsala.se
SUMMARY:Hågaby Julmarknad
DESCRIPTION:Hågaby Julmarknad i dagarna två\, med ca 30 utställare\, julmusik\, tomte\, luciatåg och mycket annat. \nInomhus och utomhus på torget lördag 12 december och söndag 13 december kl 11-17. \nPonnyridning\, kafé\, fiskdamm\, hantverk\, antikt\, silversmide\, ull- och halmprodukter är en del av allt ni kan hitta på julmarknaden. \nPreliminära tider för de olika aktiviteterna:\nPonnyridning kl 12. Tomten kommer kl 13 och Luciatåget kl 14.30.\nChristmas Carols kl 12.30\, 13.30 och 15.30. Eldshow på torget kl 16. \nTantens Gröna Skafferi & Garderob har julöppet 11-17. \nBild: pixabay.com. \n  \nDela evenemanget
URL:https://arkiv.gratisuppsala.se/event/hagaby-julmarknad/
LOCATION:Kulturoasen\, Hågavägen 190\, Uppsala
CATEGORIES:Marknad & Loppis
ATTACH;FMTTYPE=image/jpeg:https://arkiv.gratisuppsala.se/wp-content/uploads/2015/12/griffeltavlan.jpg
GEO:59.8381745;17.5761698
X-APPLE-STRUCTURED-LOCATION;VALUE=URI;X-ADDRESS=Kulturoasen Hågavägen 190 Uppsala;X-APPLE-RADIUS=500;X-TITLE=Hågavägen 190:geo:17.5761698,59.8381745
END:VEVENT
END:VCALENDAR